BEGIN:VCALENDAR
VERSION:2.0
PRODID:-//Founders.ma - ECPv6.15.20//NONSGML v1.0//EN
CALSCALE:GREGORIAN
METHOD:PUBLISH
X-ORIGINAL-URL:https://founders.ma
X-WR-CALDESC:Évènements pour Founders.ma
REFRESH-INTERVAL;VALUE=DURATION:PT1H
X-Robots-Tag:noindex
X-PUBLISHED-TTL:PT1H
BEGIN:VTIMEZONE
TZID:UTC
BEGIN:STANDARD
TZOFFSETFROM:+0000
TZOFFSETTO:+0000
TZNAME:UTC
DTSTART:20200101T000000
END:STANDARD
END:VTIMEZONE
BEGIN:VEVENT
DTSTART;TZID=UTC:20211210T103000
DTEND;TZID=UTC:20211210T113000
DTSTAMP:20260424T060346
CREATED:20211209T135352Z
LAST-MODIFIED:20211209T135901Z
UID:544-1639132200-1639135800@founders.ma
SUMMARY:Visite du nouveau directeur de l'institut français Marrakech
DESCRIPTION:Visite de l’équipe de l’institut français Marrakech à Emerging Business Factory
URL:https://founders.ma/agenda/visite-du-nouveau-directeur-de-linstitut-francais-marrakech/
LOCATION:Emerging Business Factory\, N61 QI SIDI GHANEM\, Marrakech\, Marrakech-Safi\, 40000\, Morocco
CATEGORIES:Visite
ATTACH;FMTTYPE=image/png:https://founders.ma/wp-content/uploads/2021/12/téléchargement.png
END:VEVENT
BEGIN:VEVENT
DTSTART;TZID=UTC:20211210T170000
DTEND;TZID=UTC:20211210T190000
DTSTAMP:20260424T060346
CREATED:20211206T083204Z
LAST-MODIFIED:20211206T093954Z
UID:506-1639155600-1639162800@founders.ma
SUMMARY:Growth Hacking\, challenges de croissance
DESCRIPTION:Développer rapidement son activité et booster ses ventes sont de véritables challenges pour les petites entreprises qui ont rarement le temps\, les ressources et le budget nécessaires au lancement de grosses campagnes marketing. Le consommateur étant de plus en plus versatile\, les entreprises doivent trouver de nouvelles manières de les séduire\, de les attirer et de les fidéliser. D’où l’émergence de nouvelles stratégies de développement comme le «Growth Hacking». \nDécouvrons cette méthode qui fait tant parler d’elle\, dans un Workshop animé par Mr. Taoufik Aboudia\, co-fondateur & CEO de l’Emerging Business Factory\,… \nEt tant qu’à faire\, cadeau de la maison avant de quitter le cours\, écoutons en 5-10 minutes notre ami Othmane El Ouarzazi nous divulguer quelques secrets des NFT\, ce sigle qui affole le monde de l’art numérique.
URL:https://founders.ma/agenda/growth-hacking-challenges-de-croissance/
LOCATION:Emerging Business Factory\, N61 QI SIDI GHANEM\, Marrakech\, Marrakech-Safi\, 40000\, Morocco
ATTACH;FMTTYPE=image/png:https://founders.ma/wp-content/uploads/2021/12/Growth-Hacking-challenges-de-croissance-Taoufik-Aboudia.png
END:VEVENT
END:VCALENDAR