BEGIN:VCALENDAR
VERSION:2.0
PRODID:-//Founders.ma - ECPv6.15.20//NONSGML v1.0//EN
CALSCALE:GREGORIAN
METHOD:PUBLISH
X-ORIGINAL-URL:https://founders.ma
X-WR-CALDESC:Évènements pour Founders.ma
REFRESH-INTERVAL;VALUE=DURATION:PT1H
X-Robots-Tag:noindex
X-PUBLISHED-TTL:PT1H
BEGIN:VTIMEZONE
TZID:UTC
BEGIN:STANDARD
TZOFFSETFROM:+0000
TZOFFSETTO:+0000
TZNAME:UTC
DTSTART:20200101T000000
END:STANDARD
END:VTIMEZONE
BEGIN:VEVENT
DTSTART;TZID=UTC:20211221T090000
DTEND;TZID=UTC:20211221T163000
DTSTAMP:20260424T060130
CREATED:20211220T104549Z
LAST-MODIFIED:20211220T104549Z
UID:732-1640077200-1640104200@founders.ma
SUMMARY:Forum Aquatech : Traitement et réutilisation des eaux usées en agriculture
DESCRIPTION:
URL:https://founders.ma/agenda/forum-aquatech-traitement-et-reutilisation-des-eaux-usees-en-agriculture/
LOCATION:cité de l’innovation\, JXVJ+466\, Marrakech 40000\, Marrakech\, 40000\, Morocco
ATTACH;FMTTYPE=image/jpeg:https://founders.ma/wp-content/uploads/2021/12/aqua-1-1-1.jpg
END:VEVENT
END:VCALENDAR