BEGIN:VCALENDAR
VERSION:2.0
PRODID:-//Founders.ma - ECPv6.15.20//NONSGML v1.0//EN
CALSCALE:GREGORIAN
METHOD:PUBLISH
X-ORIGINAL-URL:https://founders.ma
X-WR-CALDESC:Évènements pour Founders.ma
REFRESH-INTERVAL;VALUE=DURATION:PT1H
X-Robots-Tag:noindex
X-PUBLISHED-TTL:PT1H
BEGIN:VTIMEZONE
TZID:UTC
BEGIN:STANDARD
TZOFFSETFROM:+0000
TZOFFSETTO:+0000
TZNAME:UTC
DTSTART:20200101T000000
END:STANDARD
END:VTIMEZONE
BEGIN:VEVENT
DTSTART;TZID=UTC:20211226T110000
DTEND;TZID=UTC:20211229T200000
DTSTAMP:20260424T060346
CREATED:20211227T101818Z
LAST-MODIFIED:20211227T101818Z
UID:845-1640516400-1640808000@founders.ma
SUMMARY:Enchères : « Un Hiver Marocain »
DESCRIPTION:Artcurial Maroc organisera le 30 décembre prochain à Mamounia à Marrakech\, la cinquième édition de la vente aux enchères « Un Hiver Marocain »\, un rendez-vous incontournable des amateurs d’art. \nCette vente sera composée de trois sessions majeures : « Majorelle et ses Contemporains » avec des œuvres\, notamment de Dinet\, Girardet\, Roubtzoff\, Legrand\, Ackein\, « Art Moderne et Contemporain » incluant des œuvres d’artistes tels que Chaibia\, Melehi\, Glaoui\, Cherkaoui\, Matisse\, Miro\, Picasso\, Hartung et Chagall ainsi que « Art Contemporain Africain » comprenant des œuvres de Sidibé\, Keita\, Pilipili\, Moke\, Bertiers et Aboudia\, indique Artcurial Maroc dans un communiqué. \n« Si vous souhaitez inclure des œuvres dans cette vente\, nos spécialistes à Marrakech et à Paris se tiennent à votre disposition pour toutes\nestimations gracieuses et confidentielles »\, souligne la maison de ventes aux enchères. \nClôture du catalogue : \nMi-novembre 2021 \nVente aux enchères à La Mamounia\, Marrakech : \nJeudi 30 décembre 2021 à 16h (heure française) \nExposition publique d’une sélection d’œuvres à Casablanca :\nDu mardi 14 décembre au jeudi 17 décembre 2021\, de 11h à 20h \nGalerie Venise Cadre Casablanca \nExposition publique à Marrakech : \nDu Dimanche 26 décembre au mercredi 29 décembre 2021\, de 11h à 20h \nJeudi 30 décembre 2021\, de 11h à 13h \nÀ La Mamounia\, Marrakech
URL:https://founders.ma/agenda/encheres-un-hiver-marocain/
LOCATION:La Mamounia\, Avenue Bab Jdid، مراكش 40040\, Marrakech\, 40000\, Morocco
ATTACH;FMTTYPE=image/jpeg:https://founders.ma/wp-content/uploads/2021/12/la-mamounia.jpeg
END:VEVENT
END:VCALENDAR