BEGIN:VCALENDAR
VERSION:2.0
PRODID:-//Founders.ma - ECPv6.15.20//NONSGML v1.0//EN
CALSCALE:GREGORIAN
METHOD:PUBLISH
X-ORIGINAL-URL:https://founders.ma
X-WR-CALDESC:Évènements pour Founders.ma
REFRESH-INTERVAL;VALUE=DURATION:PT1H
X-Robots-Tag:noindex
X-PUBLISHED-TTL:PT1H
BEGIN:VTIMEZONE
TZID:UTC
BEGIN:STANDARD
TZOFFSETFROM:+0000
TZOFFSETTO:+0000
TZNAME:UTC
DTSTART:20210101T000000
END:STANDARD
END:VTIMEZONE
BEGIN:VEVENT
DTSTART;TZID=UTC:20220117T090000
DTEND;TZID=UTC:20220121T190000
DTSTAMP:20260424T042619
CREATED:20211209T091420Z
LAST-MODIFIED:20211209T091420Z
UID:538-1642410000-1642791600@founders.ma
SUMMARY:Africa IT Days
DESCRIPTION:Le rendez-vous incontournable des Talents de l’IT et de la Transformation Digitale.\nAprès le succès de sa première édition ” 2020 GO! ” en Novembre 2020\, ayant réuni plus de 5 000 participants et 40 entreprises et partenaires\, le rendez-vous annuel de recrutement et de partage\, destiné aux professionnels du Digital et de l’ IT est de retour dans sa 2nd édition avec une cible plus élargie.\nCet événement représente un excellent moyen\, notamment pour les jeunes diplômés et les talents expérimentés\, qui évoluent dans les métiers de l’IT et du Digital\, d’établir un contact avec différentes entreprises qui opèrent dans le secteur\, mais aussi de découvrir de près les métiers et les technologies de tendances.\nAfrica IT Days aura lieu virtuellement du 17 au 21 janvier 2022
URL:https://founders.ma/agenda/africa-it-days/
ATTACH;FMTTYPE=image/jpeg:https://founders.ma/wp-content/uploads/2021/12/260406341_4910782208952324_4012611075252567703_n.jpg
END:VEVENT
END:VCALENDAR