BEGIN:VCALENDAR
VERSION:2.0
PRODID:-//Founders.ma - ECPv6.15.20//NONSGML v1.0//EN
CALSCALE:GREGORIAN
METHOD:PUBLISH
X-ORIGINAL-URL:https://founders.ma
X-WR-CALDESC:Évènements pour Founders.ma
REFRESH-INTERVAL;VALUE=DURATION:PT1H
X-Robots-Tag:noindex
X-PUBLISHED-TTL:PT1H
BEGIN:VTIMEZONE
TZID:UTC
BEGIN:STANDARD
TZOFFSETFROM:+0000
TZOFFSETTO:+0000
TZNAME:UTC
DTSTART:20210101T000000
END:STANDARD
END:VTIMEZONE
BEGIN:VEVENT
DTSTART;TZID=UTC:20220210T180000
DTEND;TZID=UTC:20220210T190000
DTSTAMP:20260424T023506
CREATED:20220207T084447Z
LAST-MODIFIED:20220207T084447Z
UID:1360-1644516000-1644519600@founders.ma
SUMMARY:The IE Advantage: Discovering Opportunities for you at IE
DESCRIPTION:IE is one of the leading European higher education institutions\, with a learning model that puts students at the center. Our approach is eminently practical and ensures that students acquire not only the technical know-how but also the mindset and interpersonal skills that are essential for a successful future leader. \nWith its centrally located Madrid campus\, international student community\, and dynamic learning environment\, IE is the perfect place to develop your career. \nAre you a recent university graduate\, thinking about how to jumpstart your career? \nAre you at a point in your career where you would like to differentiate yourself in the job market? \nHave you been considering refreshing your skills or even exploring new areas of knowledge which would set you apart from your competitors? \nAre you considering moving into a different industry or growing within your company\, but you need that extra push that complements your professional profile? \nIn this session you will learn about the different opportunities at IE which can help you tackle these challenges and achieve your career goals! \nYou will have the opportunity to present your questions directly to our IE Alumni and regional representative and find out more about our admissions process. \nThis event is designed for residents of Morocco\, Tunisia\, Libya and Algeria.
URL:https://founders.ma/agenda/the-ie-advantage-discovering-opportunities-for-you-at-ie/
LOCATION:En ligne
CATEGORIES:Webinar
ATTACH;FMTTYPE=image/jpeg:https://founders.ma/wp-content/uploads/2022/02/https___cdn.evbuc_.com_images_223353769_215986123110_1_original-1.jpeg
END:VEVENT
END:VCALENDAR