BEGIN:VCALENDAR
VERSION:2.0
PRODID:-//Founders.ma - ECPv6.15.20//NONSGML v1.0//EN
CALSCALE:GREGORIAN
METHOD:PUBLISH
X-WR-CALNAME:Founders.ma
X-ORIGINAL-URL:https://founders.ma
X-WR-CALDESC:Évènements pour Founders.ma
REFRESH-INTERVAL;VALUE=DURATION:PT1H
X-Robots-Tag:noindex
X-PUBLISHED-TTL:PT1H
BEGIN:VTIMEZONE
TZID:Europe/Paris
BEGIN:DAYLIGHT
TZOFFSETFROM:+0100
TZOFFSETTO:+0200
TZNAME:CEST
DTSTART:20210328T010000
END:DAYLIGHT
BEGIN:STANDARD
TZOFFSETFROM:+0200
TZOFFSETTO:+0100
TZNAME:CET
DTSTART:20211031T010000
END:STANDARD
BEGIN:DAYLIGHT
TZOFFSETFROM:+0100
TZOFFSETTO:+0200
TZNAME:CEST
DTSTART:20220327T010000
END:DAYLIGHT
BEGIN:STANDARD
TZOFFSETFROM:+0200
TZOFFSETTO:+0100
TZNAME:CET
DTSTART:20221030T010000
END:STANDARD
BEGIN:DAYLIGHT
TZOFFSETFROM:+0100
TZOFFSETTO:+0200
TZNAME:CEST
DTSTART:20230326T010000
END:DAYLIGHT
BEGIN:STANDARD
TZOFFSETFROM:+0200
TZOFFSETTO:+0100
TZNAME:CET
DTSTART:20231029T010000
END:STANDARD
END:VTIMEZONE
BEGIN:VEVENT
DTSTART;TZID=Europe/Paris:20220224T183000
DTEND;TZID=Europe/Paris:20220224T203000
DTSTAMP:20260424T023213
CREATED:20220222T082232Z
LAST-MODIFIED:20220222T082232Z
UID:3705-1645727400-1645734600@founders.ma
SUMMARY:Emerging People #18
DESCRIPTION:Episode XVIII des afterworks Emerging People. \nNous vous convions pour cette 18ème édition avec un programme de networking et quelques annonces importantes et projets à partager avec vous. \nAu programme\, une dose de networking avec une brochette finement sélectionnée de représentations d’instances business et entrepreneuriat\, d’institutions publiques\, de policy makers\, d’associations nationales et internationales\, d’artistes\, de philosophes et évidemment\, de nos jeunes pousses dont le chemin se fraye avec consistance et persistance. \nNotre talentueux Hamza a brillamment transformé en langage visuel quelques clés de lecture de cette soirée. En attendant de vous voir jeudi soir pour en dévoiler la consistance\, vous avez surement remarqué le signe du zodiaque en arrière plan du personnage mystérieux\, il s’agit du “Marrakech Safi”\, les huit astres représentent les huit provinces d’une région qui donne vie à une émergence. Ce soir nous serons toutes et tous de ce signe dont le caractère de personnalité principal est l’empathie relevé par le désir de la conquête d’un avenir meilleur pour tous. \nAu grand plaisir de vous recevoir.
URL:https://founders.ma/agenda/emerging-people-18/
CATEGORIES:afterwork
ATTACH;FMTTYPE=image/png:https://founders.ma/wp-content/uploads/2022/02/EP-18-Eventbrite.png
ORGANIZER;CN="EBF - Emerging Business Factory":MAILTO:now@emergingbusinessfactory.com
END:VEVENT
END:VCALENDAR