BEGIN:VCALENDAR
VERSION:2.0
PRODID:-//Founders.ma - ECPv6.15.20//NONSGML v1.0//EN
CALSCALE:GREGORIAN
METHOD:PUBLISH
X-WR-CALNAME:Founders.ma
X-ORIGINAL-URL:https://founders.ma
X-WR-CALDESC:Évènements pour Founders.ma
REFRESH-INTERVAL;VALUE=DURATION:PT1H
X-Robots-Tag:noindex
X-PUBLISHED-TTL:PT1H
BEGIN:VTIMEZONE
TZID:Europe/Paris
BEGIN:DAYLIGHT
TZOFFSETFROM:+0100
TZOFFSETTO:+0200
TZNAME:CEST
DTSTART:20210328T010000
END:DAYLIGHT
BEGIN:STANDARD
TZOFFSETFROM:+0200
TZOFFSETTO:+0100
TZNAME:CET
DTSTART:20211031T010000
END:STANDARD
BEGIN:DAYLIGHT
TZOFFSETFROM:+0100
TZOFFSETTO:+0200
TZNAME:CEST
DTSTART:20220327T010000
END:DAYLIGHT
BEGIN:STANDARD
TZOFFSETFROM:+0200
TZOFFSETTO:+0100
TZNAME:CET
DTSTART:20221030T010000
END:STANDARD
BEGIN:DAYLIGHT
TZOFFSETFROM:+0100
TZOFFSETTO:+0200
TZNAME:CEST
DTSTART:20230326T010000
END:DAYLIGHT
BEGIN:STANDARD
TZOFFSETFROM:+0200
TZOFFSETTO:+0100
TZNAME:CET
DTSTART:20231029T010000
END:STANDARD
END:VTIMEZONE
BEGIN:VEVENT
DTSTART;TZID=Europe/Paris:20220228T120000
DTEND;TZID=Europe/Paris:20220228T140000
DTSTAMP:20260424T005958
CREATED:20220222T085705Z
LAST-MODIFIED:20220222T085705Z
UID:3714-1646049600-1646056800@founders.ma
SUMMARY:Décarbonation\, une opportunité et des contraintes
DESCRIPTION:Selon l’édition 2021 du rapport de l’Agence internationale de l’énergie\, les Etats devront tripler les investissements dans les énergies vertes s’ils souhaitent atteindre les objectifs de transition énergétique au risque de faire face à des turbulences climatiques. Le Maroc est l’un des pays pionnier sur le continent qui a bien compris ces enjeux. Fidèle aux accords de Paris sur le climat\, il est depuis quelques années très présent sur le terrain de la transition énergétique. L’organisation de la grand-messe du climat (COP 22) est une illustration qui a confirmé son soft power énergétique. De plus\, ces engagements ont été portés par une feuille de route ambitieuse dans le domaine de l’énergie adossée à une véritable volonté politique. Aujourd’hui face au virage de la décarbonation qui s’est imposé comme un défi de gouvernance\, le Maroc a décidé de passer à la vitesse supérieure dans le cadre de ses engagements en faveur du climat. Il ambitionne de consacrer 70% de son énergie aux énergies renouvelables d’ici 2040 et 80% d’ici 2050. A défaut d’être sceptique\, ce nouvel agenda dans le vert soulève des questions de fonds sur la réalisation de ce chantier de grand acabit. \n– Comment le Maroc se prépare-t-il pour amorcer le virage de la décarbonation de son économie ?\n– Qui finance quoi ?\n– Quel cadre fiscal pour accompagner l’industrie dans cette transition verte ?
URL:https://founders.ma/agenda/decarbonation-une-opportunite-et-des-contraintes/
CATEGORIES:conférence
ATTACH;FMTTYPE=image/jpeg:https://founders.ma/wp-content/uploads/2022/02/dd852e74-cd7c-419c-850c-1ba1726bd62c.jpg
END:VEVENT
END:VCALENDAR