BEGIN:VCALENDAR
VERSION:2.0
PRODID:-//Founders.ma - ECPv6.15.20//NONSGML v1.0//EN
CALSCALE:GREGORIAN
METHOD:PUBLISH
X-WR-CALNAME:Founders.ma
X-ORIGINAL-URL:https://founders.ma
X-WR-CALDESC:Évènements pour Founders.ma
REFRESH-INTERVAL;VALUE=DURATION:PT1H
X-Robots-Tag:noindex
X-PUBLISHED-TTL:PT1H
BEGIN:VTIMEZONE
TZID:Europe/Paris
BEGIN:DAYLIGHT
TZOFFSETFROM:+0100
TZOFFSETTO:+0200
TZNAME:CEST
DTSTART:20210328T010000
END:DAYLIGHT
BEGIN:STANDARD
TZOFFSETFROM:+0200
TZOFFSETTO:+0100
TZNAME:CET
DTSTART:20211031T010000
END:STANDARD
BEGIN:DAYLIGHT
TZOFFSETFROM:+0100
TZOFFSETTO:+0200
TZNAME:CEST
DTSTART:20220327T010000
END:DAYLIGHT
BEGIN:STANDARD
TZOFFSETFROM:+0200
TZOFFSETTO:+0100
TZNAME:CET
DTSTART:20221030T010000
END:STANDARD
BEGIN:DAYLIGHT
TZOFFSETFROM:+0100
TZOFFSETTO:+0200
TZNAME:CEST
DTSTART:20230326T010000
END:DAYLIGHT
BEGIN:STANDARD
TZOFFSETFROM:+0200
TZOFFSETTO:+0100
TZNAME:CET
DTSTART:20231029T010000
END:STANDARD
END:VTIMEZONE
BEGIN:VEVENT
DTSTART;TZID=Europe/Paris:20220301T110000
DTEND;TZID=Europe/Paris:20220301T130000
DTSTAMP:20260424T010116
CREATED:20220228T193758Z
LAST-MODIFIED:20220228T193758Z
UID:3730-1646132400-1646139600@founders.ma
SUMMARY:CRI MEETING DAY #5
DESCRIPTION:Rendez-vous le 01 mars à 11h\, pour la 5éme édition des CRI MEETING DAYS\, autour du théme E-Commerce : Vecteur de croissance post covid pour les TPME ! \nEntrepreneurs ! retrouvez experts et serial entrepreneurs pour en savoir plus sur comment améliorer la performance de votre business!
URL:https://founders.ma/agenda/cri-meeting-day-5/
CATEGORIES:Webinar
ATTACH;FMTTYPE=image/jpeg:https://founders.ma/wp-content/uploads/2022/02/1646063652338.jpg
END:VEVENT
BEGIN:VEVENT
DTSTART;TZID=Europe/Paris:20220301T190000
DTEND;TZID=Europe/Paris:20220301T200000
DTSTAMP:20260424T010116
CREATED:20220301T102909Z
LAST-MODIFIED:20220301T102909Z
UID:3747-1646161200-1646164800@founders.ma
SUMMARY:Grand Webinaire de Lancement Social Impulse + Academy
DESCRIPTION:Bienvenue sur le Webinaire de lancement de Lancement Social Impulse + Academy qui aura pour thématique et question centrale : L’apprentissage à distance comme impératif dans un contexte post-pandémique. Avec la participation de Jamila Hadri\, Abdelkhalek Zyne\, Raja Bensaoud\, Stephane Dangel\, Christian Gatard\, Karim Baina et Yasser Monkachi. Soyez au rendez-vous d’un débat structurant et inspirant !
URL:https://founders.ma/agenda/grand-webinaire-de-lancement-social-impulse-academy/
CATEGORIES:conférence
ATTACH;FMTTYPE=image/jpeg:https://founders.ma/wp-content/uploads/2022/03/unnamed.jpg
END:VEVENT
END:VCALENDAR