BEGIN:VCALENDAR
VERSION:2.0
PRODID:-//Founders.ma - ECPv6.15.20//NONSGML v1.0//EN
CALSCALE:GREGORIAN
METHOD:PUBLISH
X-ORIGINAL-URL:https://founders.ma
X-WR-CALDESC:Évènements pour Founders.ma
REFRESH-INTERVAL;VALUE=DURATION:PT1H
X-Robots-Tag:noindex
X-PUBLISHED-TTL:PT1H
BEGIN:VTIMEZONE
TZID:Europe/Paris
BEGIN:DAYLIGHT
TZOFFSETFROM:+0100
TZOFFSETTO:+0200
TZNAME:CEST
DTSTART:20210328T010000
END:DAYLIGHT
BEGIN:STANDARD
TZOFFSETFROM:+0200
TZOFFSETTO:+0100
TZNAME:CET
DTSTART:20211031T010000
END:STANDARD
BEGIN:DAYLIGHT
TZOFFSETFROM:+0100
TZOFFSETTO:+0200
TZNAME:CEST
DTSTART:20220327T010000
END:DAYLIGHT
BEGIN:STANDARD
TZOFFSETFROM:+0200
TZOFFSETTO:+0100
TZNAME:CET
DTSTART:20221030T010000
END:STANDARD
BEGIN:DAYLIGHT
TZOFFSETFROM:+0100
TZOFFSETTO:+0200
TZNAME:CEST
DTSTART:20230326T010000
END:DAYLIGHT
BEGIN:STANDARD
TZOFFSETFROM:+0200
TZOFFSETTO:+0100
TZNAME:CET
DTSTART:20231029T010000
END:STANDARD
END:VTIMEZONE
BEGIN:VEVENT
DTSTART;TZID=Europe/Paris:20220314T100000
DTEND;TZID=Europe/Paris:20220314T170000
DTSTAMP:20260424T010339
CREATED:20220314T084720Z
LAST-MODIFIED:20220314T084823Z
UID:3881-1647252000-1647277200@founders.ma
SUMMARY:Caravane de L’entrepreneuriat 2022 - Région Marrakech- Safi
DESCRIPTION:Caravane De L’entrepreneuriat En Quête De Jeunes Entrepreneurs De La Région Marrakech- Safi \nLancement de la caravane de l’entrepreneuriat 2022 en quête des jeunes entrepreneurs de la région Marrakech Safi\, et ce lundi 14 mars 2022 à 10h00. La caravane sera lancée par Monsieur le Wali à partir du siège de la wilaya et à destination de 24 communes rurales relevant de 8 provinces et préfecture de la région. \nOuahat Sidi Brahim ; Alouidane ; Loudaya ; Souk Tnin Ourika ; Souk Tlet Ait ourir ; Souk larabaa Tighdouine ; Sidi Bouathmane ; Ras Ain Rhamna ; Skhour Rehamna ; Tamellat ; Tassaout ; Attaouia ; Imintanoute ; Sid L’Mokhtar ; Majjat ; Aquermoud ; Ounagha ; Korimate ; Jemaat Shaim ; Sebt Gzoula ; Had hrara ; El Gantour ; Sidi Chiker ; Jdour.
URL:https://founders.ma/agenda/caravane-de-lentrepreneuriat-2022-region-marrakech-safi/
LOCATION:Wilaya de Marrakech\, Marrakech\, Morocco
CATEGORIES:caravane,formation
ATTACH;FMTTYPE=image/png:https://founders.ma/wp-content/uploads/2022/03/ad0ddf4c4972b476a442453f44654847.png
END:VEVENT
END:VCALENDAR