BEGIN:VCALENDAR
VERSION:2.0
PRODID:-//Founders.ma - ECPv6.15.20//NONSGML v1.0//EN
CALSCALE:GREGORIAN
METHOD:PUBLISH
X-WR-CALNAME:Founders.ma
X-ORIGINAL-URL:https://founders.ma
X-WR-CALDESC:Évènements pour Founders.ma
REFRESH-INTERVAL;VALUE=DURATION:PT1H
X-Robots-Tag:noindex
X-PUBLISHED-TTL:PT1H
BEGIN:VTIMEZONE
TZID:Europe/Paris
BEGIN:DAYLIGHT
TZOFFSETFROM:+0100
TZOFFSETTO:+0200
TZNAME:CEST
DTSTART:20210328T010000
END:DAYLIGHT
BEGIN:STANDARD
TZOFFSETFROM:+0200
TZOFFSETTO:+0100
TZNAME:CET
DTSTART:20211031T010000
END:STANDARD
BEGIN:DAYLIGHT
TZOFFSETFROM:+0100
TZOFFSETTO:+0200
TZNAME:CEST
DTSTART:20220327T010000
END:DAYLIGHT
BEGIN:STANDARD
TZOFFSETFROM:+0200
TZOFFSETTO:+0100
TZNAME:CET
DTSTART:20221030T010000
END:STANDARD
BEGIN:DAYLIGHT
TZOFFSETFROM:+0100
TZOFFSETTO:+0200
TZNAME:CEST
DTSTART:20230326T010000
END:DAYLIGHT
BEGIN:STANDARD
TZOFFSETFROM:+0200
TZOFFSETTO:+0100
TZNAME:CET
DTSTART:20231029T010000
END:STANDARD
END:VTIMEZONE
BEGIN:VEVENT
DTSTART;VALUE=DATE:20220317
DTEND;VALUE=DATE:20220320
DTSTAMP:20260424T010122
CREATED:20220306T211410Z
LAST-MODIFIED:20220306T211410Z
UID:3769-1647475200-1647734399@founders.ma
SUMMARY:HACKATON 4 CREATE
DESCRIPTION:Le Centre international de Recherche et de Renforcement des Capacités (Cl2RC)\, en partenariat avec la Fondation Friedrich Naumann et l’École Supérieure de Technologie Essaouira organisent du 17 au 19 mars 2022 le HACKATON 4 CREATE et ce dans trois thèmes ” La mobilité douce; Le tourisme durable; La smart agriculture” en vue de choisir des idées\, des Start up et des projets innovants.\n Le Hackathon s’adresse à toutes et à tous les jeunes\, des étudiants\, société civile\, développeurs\, designer\, startups\, ONG\, professionnels et à toute personne\, volontaire\, talentueuse\, susceptible de proposer des idées innovantes et développer des solutions technologiques\, qui répondent aux thèmes choisis et aux challenges proposés. \n   ! \nInscrivez vous vite\, les places sont limitées\ndu 06 mars au 15 mars 2022 \, sur le lien\nhttps://docs.google.com/…/1jxZGYgxPkQP0Z…/edit
URL:https://founders.ma/agenda/hackaton-4-create/
CATEGORIES:Hackathon
ATTACH;FMTTYPE=image/jpeg:https://founders.ma/wp-content/uploads/2022/03/274926291_1114070326092747_8624447204743366458_n.jpg
END:VEVENT
BEGIN:VEVENT
DTSTART;TZID=Europe/Paris:20220319T103000
DTEND;TZID=Europe/Paris:20220319T123000
DTSTAMP:20260424T010122
CREATED:20220301T083101Z
LAST-MODIFIED:20220301T083147Z
UID:3739-1647685800-1647693000@founders.ma
SUMMARY:Marrakech Startup School
DESCRIPTION:A propos de cet événement : \nVous êtes invités à nous rejoindre pour en savoir plus sur notre programme STARTUPS pour les étudiants lors de cette session d’information GRATUITE en personne au WLC Marrakech (Guéliz). \nFormations\nAteliers\nMise en réseau\nÉvénements\net bien d’autres activités intéressantes…\nSi vous êtes un étudiant ou un jeune diplômé passionné par l’innovation et l’esprit d’entreprise et que vous souhaitez vous retrouver avec des personnes partageant les mêmes idées et changer le monde\, voici votre chance de faire bouger les choses !
URL:https://founders.ma/agenda/marrakech-startup-school/
LOCATION:WLC Marrakech\, Av. Khalid Ibn El Oualid\, Marrakech\, 40000\, Morocco
CATEGORIES:formation
ATTACH;FMTTYPE=image/jpeg:https://founders.ma/wp-content/uploads/2022/03/https___cdn.evbuc_.com_images_237249789_313169749600_1_original.jpeg
END:VEVENT
END:VCALENDAR