BEGIN:VCALENDAR
VERSION:2.0
PRODID:-//Founders.ma - ECPv6.15.20//NONSGML v1.0//EN
CALSCALE:GREGORIAN
METHOD:PUBLISH
X-ORIGINAL-URL:https://founders.ma
X-WR-CALDESC:Évènements pour Founders.ma
REFRESH-INTERVAL;VALUE=DURATION:PT1H
X-Robots-Tag:noindex
X-PUBLISHED-TTL:PT1H
BEGIN:VTIMEZONE
TZID:UTC
BEGIN:STANDARD
TZOFFSETFROM:+0000
TZOFFSETTO:+0000
TZNAME:UTC
DTSTART:20210101T000000
END:STANDARD
END:VTIMEZONE
BEGIN:VEVENT
DTSTART;VALUE=DATE:20220328
DTEND;VALUE=DATE:20220331
DTSTAMP:20260423T232802
CREATED:20220328T095304Z
LAST-MODIFIED:20220328T095304Z
UID:4043-1648425600-1648684799@founders.ma
SUMMARY:5th Conference on Cloud and Internet of Things
DESCRIPTION:Welcome from the Chairs of CIoT 2022\nIt is with great pleasure to welcome you to The 5th edition of Conference on Cloud and Internet of Things 2022 (CIoT’22) will be held from March 28 to 30\, 2022 in Marrakech\, Morocco as a hybrid conference. \nCIoT provides a high-quality international academic and industrial exchange forum for experts and scholars in the field of intelligent systems\, cloud computing and Internet of Things. \nThe conference will be designed and prepared as a in person event. However\, in the case of perduring traveling restrictions (official or de facto) during the conference dates due to the COVID-19 pandemic\, we will be ready to convert the conference to a fully on-line event.\nWe hope the conditions will allow for in-person participation\, so we can enjoy face-to-face discussions and coffee breaks again. It would also give the opportunity to participants to visit the beautiful city of Marrakech. \nCIoT’22 is a conference focusing on the challenges of managing Internet of Things applications while considering the whole end-to-end architecture over the sixth generation of mobile networks (6G) and next-generation data center networking from to cloud to the edge and IoT devices. The next generation of telecommunication networks is expected to support a growing number of smart terminals\, such as cell phones\, sensors and other connected objects\, to provide real-time applications and to provide intelligence and trust embedded in network infrastructure. To meet these requirements\, the 6G envisions the use of artificial intelligence\, cloud and edge computing. The 6G network will absorb the billions of flows generated by things while considering the requested QoS and the cohabitation of M2M\, M2H and H2M flows. Then\, the flows will be processed in data centers and applications will exploit the extracted knowledge. \nThe main objective of CIoT’22 is to address challenges of clouds and IoT systems from the sensors/machines to the end-users attached to the Cloud while considering the 6G network connecting both IoT and Cloud domains. \nWe are honored to organize CIoT 2022 in Marrakech\, Morocco and we are looking forward to your contributions to the continued success of the conference! \nGeneral Chairs:\nMohamed Lahby (Hassan II Univ. of Casablanca\, Morocco)\nNidal Nasser (Alfaisal University\, Saudi Arabia) \n  \nTPC Chairs: \nLei Shu (Nanjing Agricultural University\, China)\nThierry Coupaye (Orange Labs\, France)\nRachid Saadane (Hassania School of Public Works\, Morocco)\nSérgio D. Correia (Polytechnic Institute of Portalegre\, Portugal)
URL:https://founders.ma/agenda/5th-conference-on-cloud-and-internet-of-things/
LOCATION:Marrakech\, Marrakech\, 40000\, Morocco
CATEGORIES:conférence
ATTACH;FMTTYPE=image/png:https://founders.ma/wp-content/uploads/2022/03/ieee-comsoc-logo.png
END:VEVENT
END:VCALENDAR