BEGIN:VCALENDAR
VERSION:2.0
PRODID:-//Founders.ma - ECPv6.15.20//NONSGML v1.0//EN
CALSCALE:GREGORIAN
METHOD:PUBLISH
X-WR-CALNAME:Founders.ma
X-ORIGINAL-URL:https://founders.ma
X-WR-CALDESC:Évènements pour Founders.ma
REFRESH-INTERVAL;VALUE=DURATION:PT1H
X-Robots-Tag:noindex
X-PUBLISHED-TTL:PT1H
BEGIN:VTIMEZONE
TZID:Europe/Paris
BEGIN:DAYLIGHT
TZOFFSETFROM:+0100
TZOFFSETTO:+0200
TZNAME:CEST
DTSTART:20210328T010000
END:DAYLIGHT
BEGIN:STANDARD
TZOFFSETFROM:+0200
TZOFFSETTO:+0100
TZNAME:CET
DTSTART:20211031T010000
END:STANDARD
BEGIN:DAYLIGHT
TZOFFSETFROM:+0100
TZOFFSETTO:+0200
TZNAME:CEST
DTSTART:20220327T010000
END:DAYLIGHT
BEGIN:STANDARD
TZOFFSETFROM:+0200
TZOFFSETTO:+0100
TZNAME:CET
DTSTART:20221030T010000
END:STANDARD
BEGIN:DAYLIGHT
TZOFFSETFROM:+0100
TZOFFSETTO:+0200
TZNAME:CEST
DTSTART:20230326T010000
END:DAYLIGHT
BEGIN:STANDARD
TZOFFSETFROM:+0200
TZOFFSETTO:+0100
TZNAME:CET
DTSTART:20231029T010000
END:STANDARD
END:VTIMEZONE
BEGIN:VEVENT
DTSTART;VALUE=DATE:20220407
DTEND;VALUE=DATE:20220408
DTSTAMP:20260423T232202
CREATED:20220331T135528Z
LAST-MODIFIED:20220331T135528Z
UID:4081-1649289600-1649375999@founders.ma
SUMMARY:BIG SEO : une journée de webinars sur le SEO et le Content Marketing
DESCRIPTION:L’événement BIG SEO\, organisé par CyberCité\, revient pour une troisième édition ! Au programme : une journée de webinars sur le SEO et le Content Marketing. Des experts seront présents pour décrypter les dernières tendances\, mais également vous livrer leurs bonnes pratiques. Parmi les thématiques abordées : data SEO\, stratégie de content marketing\, refonte de site\, SEO avec Shopify\, stratégie de linking… À la clé ? Des retours d’expériences et des cas concrets\, ainsi que des connaissances pour mettre en place des stratégies SEO et de contenus efficaces. L’événement est 100 % en ligne et gratuit.
URL:https://founders.ma/agenda/big-seo-une-journee-de-webinars-sur-le-seo-et-le-content-marketing/
CATEGORIES:Webinar
ATTACH;FMTTYPE=image/jpeg:https://founders.ma/wp-content/uploads/2022/03/CyberCite_Webinars_big_seo_3_bandeau_Saloon.jpg
END:VEVENT
END:VCALENDAR