BEGIN:VCALENDAR
VERSION:2.0
PRODID:-//Founders.ma - ECPv6.15.20//NONSGML v1.0//EN
CALSCALE:GREGORIAN
METHOD:PUBLISH
X-WR-CALNAME:Founders.ma
X-ORIGINAL-URL:https://founders.ma
X-WR-CALDESC:Évènements pour Founders.ma
REFRESH-INTERVAL;VALUE=DURATION:PT1H
X-Robots-Tag:noindex
X-PUBLISHED-TTL:PT1H
BEGIN:VTIMEZONE
TZID:Europe/Paris
BEGIN:DAYLIGHT
TZOFFSETFROM:+0100
TZOFFSETTO:+0200
TZNAME:CEST
DTSTART:20210328T010000
END:DAYLIGHT
BEGIN:STANDARD
TZOFFSETFROM:+0200
TZOFFSETTO:+0100
TZNAME:CET
DTSTART:20211031T010000
END:STANDARD
BEGIN:DAYLIGHT
TZOFFSETFROM:+0100
TZOFFSETTO:+0200
TZNAME:CEST
DTSTART:20220327T010000
END:DAYLIGHT
BEGIN:STANDARD
TZOFFSETFROM:+0200
TZOFFSETTO:+0100
TZNAME:CET
DTSTART:20221030T010000
END:STANDARD
BEGIN:DAYLIGHT
TZOFFSETFROM:+0100
TZOFFSETTO:+0200
TZNAME:CEST
DTSTART:20230326T010000
END:DAYLIGHT
BEGIN:STANDARD
TZOFFSETFROM:+0200
TZOFFSETTO:+0100
TZNAME:CET
DTSTART:20231029T010000
END:STANDARD
END:VTIMEZONE
BEGIN:VEVENT
DTSTART;TZID=Europe/Paris:20220416T180000
DTEND;TZID=Europe/Paris:20220416T193000
DTSTAMP:20260423T232200
CREATED:20220404T095200Z
LAST-MODIFIED:20220404T095200Z
UID:4092-1650132000-1650137400@founders.ma
SUMMARY:Entreprendre en Afrique : De l’idée au financement
DESCRIPTION:L’association YASSA vous invite à rencontrer des entrepreneurs et des acteurs du financement lors d’un webinar sur le thème « Entreprendre en Afrique : De l’idée au financement. »\nRendez-vous ce samedi 16 avril 2022 dès 18 h 00 d’Abidjan et 20 h 00 de Paris pour échanger avec :\n– Issa SIDIBE\, entrepreneur\, co-fondateur et CEO de Comoé Capital \, premier fonds d’impact en Côte d’Ivoire ;\n– Jean-Luc KONAN\, ancien banquier et co-fondateur du Groupe COFINA \, groupe leader de la mésofinance en Afrique francophone ;\n– Sefora KODJO\, fondatrice et PCA de la Fondation SEPHIS\, structure œuvrant pour le leadership et l’entrepreneuriat féminin ;\n– Moulaye TABOURE\, entrepreneur et co-fondateur d’ANKA ;\nVous pouvez vous inscrire à partir du lien suivant : https://lnkd.in/dsCeZwBb
URL:https://founders.ma/agenda/entreprendre-en-afrique-de-lidee-au-financement/
CATEGORIES:Webinar
ATTACH;FMTTYPE=image/png:https://founders.ma/wp-content/uploads/2022/04/1648390653063.png
END:VEVENT
END:VCALENDAR