BEGIN:VCALENDAR
VERSION:2.0
PRODID:-//Founders.ma - ECPv6.15.20//NONSGML v1.0//EN
CALSCALE:GREGORIAN
METHOD:PUBLISH
X-WR-CALNAME:Founders.ma
X-ORIGINAL-URL:https://founders.ma
X-WR-CALDESC:Évènements pour Founders.ma
REFRESH-INTERVAL;VALUE=DURATION:PT1H
X-Robots-Tag:noindex
X-PUBLISHED-TTL:PT1H
BEGIN:VTIMEZONE
TZID:Europe/Paris
BEGIN:DAYLIGHT
TZOFFSETFROM:+0100
TZOFFSETTO:+0200
TZNAME:CEST
DTSTART:20210328T010000
END:DAYLIGHT
BEGIN:STANDARD
TZOFFSETFROM:+0200
TZOFFSETTO:+0100
TZNAME:CET
DTSTART:20211031T010000
END:STANDARD
BEGIN:DAYLIGHT
TZOFFSETFROM:+0100
TZOFFSETTO:+0200
TZNAME:CEST
DTSTART:20220327T010000
END:DAYLIGHT
BEGIN:STANDARD
TZOFFSETFROM:+0200
TZOFFSETTO:+0100
TZNAME:CET
DTSTART:20221030T010000
END:STANDARD
BEGIN:DAYLIGHT
TZOFFSETFROM:+0100
TZOFFSETTO:+0200
TZNAME:CEST
DTSTART:20230326T010000
END:DAYLIGHT
BEGIN:STANDARD
TZOFFSETFROM:+0200
TZOFFSETTO:+0100
TZNAME:CET
DTSTART:20231029T010000
END:STANDARD
END:VTIMEZONE
BEGIN:VEVENT
DTSTART;TZID=Europe/Paris:20220426T170000
DTEND;TZID=Europe/Paris:20220426T180000
DTSTAMP:20260423T214124
CREATED:20220426T120637Z
LAST-MODIFIED:20220426T120637Z
UID:4139-1650992400-1650996000@founders.ma
SUMMARY:AFTERWORK#84 - GAME CHANGER - Jaouda Ait El Mouden -Communication Digitale
DESCRIPTION:🛑 Report de l’AFTERWORK#84 – GAME CHANGER – Jaouda Ait El Mouden -Communication Digitale\n✍Mardi 26 avril 2022 à 19h00 heure de Paris (🌞17h00 au Maroc)\n🔊Lien pour participer : https://lnkd.in/eCykr36U\nJaouda Ait El Mouden: -Femme des média et de la communication\, avec une longue expérience dans le domaine. -Ex Journaliste\, animatrice à Medi1 Radio et radio aswat Radio aswat (Page officielle) -Fondatrice de Lynx Media Maroc spécialisée en conseil de communication et RP. -Organisatrice d’événements et de conférences nationales et internationales. -Spécialisée en lancement de marque et accompagnement d’entreprises en communication. -Accompagnement de personnalités publiques dans leur stratégie et image de marque. -Modératrice de conférences\n❤Thème : Comment Réussir ses communications Digitale ?
URL:https://founders.ma/agenda/afterwork84-game-changer-jaouda-ait-el-mouden-communication-digitale/
CATEGORIES:afterwork
ATTACH;FMTTYPE=image/png:https://founders.ma/wp-content/uploads/2022/04/1650909066672.png
END:VEVENT
END:VCALENDAR