BEGIN:VCALENDAR
VERSION:2.0
PRODID:-//Founders.ma - ECPv6.15.20//NONSGML v1.0//EN
CALSCALE:GREGORIAN
METHOD:PUBLISH
X-WR-CALNAME:Founders.ma
X-ORIGINAL-URL:https://founders.ma
X-WR-CALDESC:Évènements pour Founders.ma
REFRESH-INTERVAL;VALUE=DURATION:PT1H
X-Robots-Tag:noindex
X-PUBLISHED-TTL:PT1H
BEGIN:VTIMEZONE
TZID:Europe/Paris
BEGIN:DAYLIGHT
TZOFFSETFROM:+0100
TZOFFSETTO:+0200
TZNAME:CEST
DTSTART:20210328T010000
END:DAYLIGHT
BEGIN:STANDARD
TZOFFSETFROM:+0200
TZOFFSETTO:+0100
TZNAME:CET
DTSTART:20211031T010000
END:STANDARD
BEGIN:DAYLIGHT
TZOFFSETFROM:+0100
TZOFFSETTO:+0200
TZNAME:CEST
DTSTART:20220327T010000
END:DAYLIGHT
BEGIN:STANDARD
TZOFFSETFROM:+0200
TZOFFSETTO:+0100
TZNAME:CET
DTSTART:20221030T010000
END:STANDARD
BEGIN:DAYLIGHT
TZOFFSETFROM:+0100
TZOFFSETTO:+0200
TZNAME:CEST
DTSTART:20230326T010000
END:DAYLIGHT
BEGIN:STANDARD
TZOFFSETFROM:+0200
TZOFFSETTO:+0100
TZNAME:CET
DTSTART:20231029T010000
END:STANDARD
END:VTIMEZONE
BEGIN:VEVENT
DTSTART;TZID=Europe/Paris:20220427T160000
DTEND;TZID=Europe/Paris:20220427T173000
DTSTAMP:20260423T214123
CREATED:20220426T121642Z
LAST-MODIFIED:20220426T121642Z
UID:4142-1651075200-1651080600@founders.ma
SUMMARY:Networking for Female Entrepreneurs
DESCRIPTION:Networking Success tips\, resources & strategies for coaches\, consultants\, and service-based entrepreneurs.\nFree networking event for Female Entrepreneurs.\nWomen Entrepreneurs\nMany of us have had to pivot and make adjustments in our normal routine.\nWhether it’s working from home for the first time\, homeschooling your kids\, or having to change how you network for your business; we’re all in the same boat\, learning to navigate new terrain.\nWe’ve learned that community is vital to helping you overcome and push forward regardless of the environment.\nIf you’re looking to be productive and have a desire to connect with a community of like-minded entrepreneurs\, join us for this event. We can’t wait to meet you!\nDreama & Dorothy\n+++++++++++++++++\nHow to join?\nYou will receive a link to join after the registration.\nWe’re sponsored by AAC CoWorking-a Faith-Based Community of Audacious\, Ambitious & Courageous Female Entrepreneurs\, and is meant to be a safe space where women can share\, support\, and collaborate with each other. If you’re interested in learning more\, email us at hello@aaccoworking.com
URL:https://founders.ma/agenda/networking-for-female-entrepreneurs/
CATEGORIES:Networking
ATTACH;FMTTYPE=image/jpeg:https://founders.ma/wp-content/uploads/2022/04/166099321_2851107611805686_5959850563307072695_n.jpeg
END:VEVENT
END:VCALENDAR