BEGIN:VCALENDAR
VERSION:2.0
PRODID:-//Founders.ma - ECPv6.15.20//NONSGML v1.0//EN
CALSCALE:GREGORIAN
METHOD:PUBLISH
X-ORIGINAL-URL:https://founders.ma
X-WR-CALDESC:Évènements pour Founders.ma
REFRESH-INTERVAL;VALUE=DURATION:PT1H
X-Robots-Tag:noindex
X-PUBLISHED-TTL:PT1H
BEGIN:VTIMEZONE
TZID:Europe/Paris
BEGIN:DAYLIGHT
TZOFFSETFROM:+0100
TZOFFSETTO:+0200
TZNAME:CEST
DTSTART:20210328T010000
END:DAYLIGHT
BEGIN:STANDARD
TZOFFSETFROM:+0200
TZOFFSETTO:+0100
TZNAME:CET
DTSTART:20211031T010000
END:STANDARD
BEGIN:DAYLIGHT
TZOFFSETFROM:+0100
TZOFFSETTO:+0200
TZNAME:CEST
DTSTART:20220327T010000
END:DAYLIGHT
BEGIN:STANDARD
TZOFFSETFROM:+0200
TZOFFSETTO:+0100
TZNAME:CET
DTSTART:20221030T010000
END:STANDARD
BEGIN:DAYLIGHT
TZOFFSETFROM:+0100
TZOFFSETTO:+0200
TZNAME:CEST
DTSTART:20230326T010000
END:DAYLIGHT
BEGIN:STANDARD
TZOFFSETFROM:+0200
TZOFFSETTO:+0100
TZNAME:CET
DTSTART:20231029T010000
END:STANDARD
END:VTIMEZONE
BEGIN:VEVENT
DTSTART;VALUE=DATE:20220512
DTEND;VALUE=DATE:20220516
DTSTAMP:20260423T214724
CREATED:20220509T083010Z
LAST-MODIFIED:20220509T083010Z
UID:4377-1652313600-1652659199@founders.ma
SUMMARY:7ème Edition du Forum Marocain de l'entrepreneuriat
DESCRIPTION:
URL:https://founders.ma/agenda/7eme-edition-du-forum-marocain-de-lentrepreneuriat/
LOCATION:Complex Culturel Mohamed VI BAB IGHLI\, Marrakech\, Morocco
END:VEVENT
BEGIN:VEVENT
DTSTART;TZID=Europe/Paris:20220512T113000
DTEND;TZID=Europe/Paris:20220512T123000
DTSTAMP:20260423T214724
CREATED:20220510T134106Z
LAST-MODIFIED:20220510T142823Z
UID:4380-1652355000-1652358600@founders.ma
SUMMARY:Visite de l'ambassade des États-Unis\, représentante de MEPI
DESCRIPTION:
URL:https://founders.ma/agenda/visite-de-lambassade-des-etats-unis-representante-de-mepi/
LOCATION:Emerging Business Factory\, N61 QI SIDI GHANEM\, Marrakech\, Marrakech-Safi\, 40000\, Morocco
CATEGORIES:Visite
ATTACH;FMTTYPE=image/jpeg:https://founders.ma/wp-content/uploads/2022/05/DpTr2EEUYAQcCMx.jpg
END:VEVENT
END:VCALENDAR