BEGIN:VCALENDAR
VERSION:2.0
PRODID:-//Founders.ma - ECPv6.15.20//NONSGML v1.0//EN
CALSCALE:GREGORIAN
METHOD:PUBLISH
X-WR-CALNAME:Founders.ma
X-ORIGINAL-URL:https://founders.ma
X-WR-CALDESC:Évènements pour Founders.ma
REFRESH-INTERVAL;VALUE=DURATION:PT1H
X-Robots-Tag:noindex
X-PUBLISHED-TTL:PT1H
BEGIN:VTIMEZONE
TZID:Europe/Paris
BEGIN:DAYLIGHT
TZOFFSETFROM:+0100
TZOFFSETTO:+0200
TZNAME:CEST
DTSTART:20210328T010000
END:DAYLIGHT
BEGIN:STANDARD
TZOFFSETFROM:+0200
TZOFFSETTO:+0100
TZNAME:CET
DTSTART:20211031T010000
END:STANDARD
BEGIN:DAYLIGHT
TZOFFSETFROM:+0100
TZOFFSETTO:+0200
TZNAME:CEST
DTSTART:20220327T010000
END:DAYLIGHT
BEGIN:STANDARD
TZOFFSETFROM:+0200
TZOFFSETTO:+0100
TZNAME:CET
DTSTART:20221030T010000
END:STANDARD
BEGIN:DAYLIGHT
TZOFFSETFROM:+0100
TZOFFSETTO:+0200
TZNAME:CEST
DTSTART:20230326T010000
END:DAYLIGHT
BEGIN:STANDARD
TZOFFSETFROM:+0200
TZOFFSETTO:+0100
TZNAME:CET
DTSTART:20231029T010000
END:STANDARD
END:VTIMEZONE
BEGIN:VEVENT
DTSTART;VALUE=DATE:20220520
DTEND;VALUE=DATE:20220523
DTSTAMP:20260423T214206
CREATED:20220504T000805Z
LAST-MODIFIED:20220504T000805Z
UID:4358-1653004800-1653263999@founders.ma
SUMMARY:La première édition de HACK THE FUTURE Hackathon
DESCRIPTION:Le club informatique de l’ENSA de Marrakech est fière et honoré de vous annoncer officiellement l’organisation de la 1ère édition de *Hackathon _HackTheFuture* qui se déroulera le 21\,22\,23 mai 2022 \, au sien de l’ENSA Marrakech. \n🔜72 heures de travail sur un thème en relation avec la *Transformation digitale* en réalisant une solution informatique innovante. \n💭Opportunité unique pour se lancer dans de nouveaux défis et se surpasser et tout cela dans une ambiance conviviale \, compétitive et amusante👨🏻‍💻👩🏽‍💻 \nSi vous êtes actuellement un(e) étudiant (e) intéressé(e) par le développement informatique ou bien une startup spécialisée dans le domaine de l’IT\, n’hésitez surtout pas à candidater en renseignant ce formulaire pour tenter de remporter un prix exceptionnel🤩\n📌https://lnkd.in/g3NRReZu \nToutes les universités et écoles sont invitées à participer à ce hackatho \n🔥Restez à l’écoute 🔥
URL:https://founders.ma/agenda/la-premiere-edition-de-hack-the-future-hackathon/
LOCATION:ENSA Marrakech\, Marrakech\, Morocco
CATEGORIES:Hackathon
ATTACH;FMTTYPE=image/jpeg:https://founders.ma/wp-content/uploads/2022/05/1651588629988.jpeg
END:VEVENT
END:VCALENDAR