BEGIN:VCALENDAR
VERSION:2.0
PRODID:-//Founders.ma - ECPv6.15.20//NONSGML v1.0//EN
CALSCALE:GREGORIAN
METHOD:PUBLISH
X-ORIGINAL-URL:https://founders.ma
X-WR-CALDESC:Évènements pour Founders.ma
REFRESH-INTERVAL;VALUE=DURATION:PT1H
X-Robots-Tag:noindex
X-PUBLISHED-TTL:PT1H
BEGIN:VTIMEZONE
TZID:Europe/Paris
BEGIN:DAYLIGHT
TZOFFSETFROM:+0100
TZOFFSETTO:+0200
TZNAME:CEST
DTSTART:20210328T010000
END:DAYLIGHT
BEGIN:STANDARD
TZOFFSETFROM:+0200
TZOFFSETTO:+0100
TZNAME:CET
DTSTART:20211031T010000
END:STANDARD
BEGIN:DAYLIGHT
TZOFFSETFROM:+0100
TZOFFSETTO:+0200
TZNAME:CEST
DTSTART:20220327T010000
END:DAYLIGHT
BEGIN:STANDARD
TZOFFSETFROM:+0200
TZOFFSETTO:+0100
TZNAME:CET
DTSTART:20221030T010000
END:STANDARD
BEGIN:DAYLIGHT
TZOFFSETFROM:+0100
TZOFFSETTO:+0200
TZNAME:CEST
DTSTART:20230326T010000
END:DAYLIGHT
BEGIN:STANDARD
TZOFFSETFROM:+0200
TZOFFSETTO:+0100
TZNAME:CET
DTSTART:20231029T010000
END:STANDARD
END:VTIMEZONE
BEGIN:VEVENT
DTSTART;VALUE=DATE:20220521
DTEND;VALUE=DATE:20220529
DTSTAMP:20260423T214724
CREATED:20220519T113443Z
LAST-MODIFIED:20220519T113443Z
UID:4399-1653091200-1653782399@founders.ma
SUMMARY:Cyber Security Week
DESCRIPTION:La “Cyber-Security Week” aura lieu à l’ENSA de Marrakech du 21 au 28 mai 2022.\nNotre ambition est de rassembler les acteurs de la scène cybernétique Marocaine\, de leur permettre de présenter leurs expériences et discuter leurs travaux.\nPlusieurs types de manifestations seront organisés :\n* Présentation de travaux de recherches\,\n* Tables rondes et débats traitant de volets pluridisciplinaires de la cyber-sécurité animées par des conférenciers et chercheurs nationales et internationales de renom\,\n* Ateliers sur des thématiques avancés de la cyber-défense\,\n* Démonstrations à vocation académique et industrielle\,\n* Présentation des innovations dans le domaine par des start-up\, ….\n\n\nLes détails de l’événement seront publiés sur cette page et sur notre site web : https://www.ensa.ac.ma/csw/
URL:https://founders.ma/agenda/cyber-security-week/
CATEGORIES:conférence,Networking,Workshop
ATTACH;FMTTYPE=image/jpeg:https://founders.ma/wp-content/uploads/2022/05/282142626_116479684394444_2525682133918529767_n.jpeg
END:VEVENT
BEGIN:VEVENT
DTSTART;VALUE=DATE:20220525
DTEND;VALUE=DATE:20220526
DTSTAMP:20260423T214724
CREATED:20220519T112427Z
LAST-MODIFIED:20220519T112427Z
UID:4395-1653436800-1653523199@founders.ma
SUMMARY:SAFI INVESTOR DAY
DESCRIPTION:Dans le cadre de sa mission de promotion du territoire et de dynamisation de son tissu socio-économique\, le Centre Régional d’Investissement de Marrakech-Safi organise\, le 25 mai 2022\, la première édition du Safi Investor Day\, un évènement phare de promotion des atouts et opportunités d’investissement dans la province de Safi. \n 
URL:https://founders.ma/agenda/safi-investor-day/
LOCATION:safi\, safi\, Morocco
ATTACH;FMTTYPE=image/jpeg:https://founders.ma/wp-content/uploads/2022/05/283006098_311208154535127_7406390915728566653_n.jpeg
END:VEVENT
END:VCALENDAR