BEGIN:VCALENDAR
VERSION:2.0
PRODID:-//Founders.ma - ECPv6.15.20//NONSGML v1.0//EN
CALSCALE:GREGORIAN
METHOD:PUBLISH
X-WR-CALNAME:Founders.ma
X-ORIGINAL-URL:https://founders.ma
X-WR-CALDESC:Évènements pour Founders.ma
REFRESH-INTERVAL;VALUE=DURATION:PT1H
X-Robots-Tag:noindex
X-PUBLISHED-TTL:PT1H
BEGIN:VTIMEZONE
TZID:Europe/Paris
BEGIN:DAYLIGHT
TZOFFSETFROM:+0100
TZOFFSETTO:+0200
TZNAME:CEST
DTSTART:20210328T010000
END:DAYLIGHT
BEGIN:STANDARD
TZOFFSETFROM:+0200
TZOFFSETTO:+0100
TZNAME:CET
DTSTART:20211031T010000
END:STANDARD
BEGIN:DAYLIGHT
TZOFFSETFROM:+0100
TZOFFSETTO:+0200
TZNAME:CEST
DTSTART:20220327T010000
END:DAYLIGHT
BEGIN:STANDARD
TZOFFSETFROM:+0200
TZOFFSETTO:+0100
TZNAME:CET
DTSTART:20221030T010000
END:STANDARD
BEGIN:DAYLIGHT
TZOFFSETFROM:+0100
TZOFFSETTO:+0200
TZNAME:CEST
DTSTART:20230326T010000
END:DAYLIGHT
BEGIN:STANDARD
TZOFFSETFROM:+0200
TZOFFSETTO:+0100
TZNAME:CET
DTSTART:20231029T010000
END:STANDARD
END:VTIMEZONE
BEGIN:VEVENT
DTSTART;TZID=Europe/Paris:20220623T090000
DTEND;TZID=Europe/Paris:20220623T170000
DTSTAMP:20260423T200130
CREATED:20220620T092532Z
LAST-MODIFIED:20220620T092532Z
UID:4474-1655974800-1656003600@founders.ma
SUMMARY:Table Ronde : Jeunes entrepreneuriat "Quels défis et quels enjeux ?"
DESCRIPTION:
URL:https://founders.ma/agenda/table-ronde-jeunes-entrepreneuriat-quels-defis-et-quels-enjeux/
LOCATION:Emerging Business Factory\, N61 QI SIDI GHANEM\, Marrakech\, Marrakech-Safi\, 40000\, Morocco
CATEGORIES:Table ronde
ATTACH;FMTTYPE=image/jpeg:https://founders.ma/wp-content/uploads/2022/06/288846770_2173704509476297_5393498910380416892_n.jpeg
END:VEVENT
END:VCALENDAR