BEGIN:VCALENDAR
VERSION:2.0
PRODID:-//Founders.ma - ECPv6.15.20//NONSGML v1.0//EN
CALSCALE:GREGORIAN
METHOD:PUBLISH
X-ORIGINAL-URL:https://founders.ma
X-WR-CALDESC:Évènements pour Founders.ma
REFRESH-INTERVAL;VALUE=DURATION:PT1H
X-Robots-Tag:noindex
X-PUBLISHED-TTL:PT1H
BEGIN:VTIMEZONE
TZID:Europe/Paris
BEGIN:DAYLIGHT
TZOFFSETFROM:+0100
TZOFFSETTO:+0200
TZNAME:CEST
DTSTART:20210328T010000
END:DAYLIGHT
BEGIN:STANDARD
TZOFFSETFROM:+0200
TZOFFSETTO:+0100
TZNAME:CET
DTSTART:20211031T010000
END:STANDARD
BEGIN:DAYLIGHT
TZOFFSETFROM:+0100
TZOFFSETTO:+0200
TZNAME:CEST
DTSTART:20220327T010000
END:DAYLIGHT
BEGIN:STANDARD
TZOFFSETFROM:+0200
TZOFFSETTO:+0100
TZNAME:CET
DTSTART:20221030T010000
END:STANDARD
BEGIN:DAYLIGHT
TZOFFSETFROM:+0100
TZOFFSETTO:+0200
TZNAME:CEST
DTSTART:20230326T010000
END:DAYLIGHT
BEGIN:STANDARD
TZOFFSETFROM:+0200
TZOFFSETTO:+0100
TZNAME:CET
DTSTART:20231029T010000
END:STANDARD
END:VTIMEZONE
BEGIN:VEVENT
DTSTART;VALUE=DATE:20220909
DTEND;VALUE=DATE:20220912
DTSTAMP:20260423T151841
CREATED:20220831T082242Z
LAST-MODIFIED:20220831T082242Z
UID:4549-1662681600-1662940799@founders.ma
SUMMARY:Un 2ème congrès international prévu du 9 au 11 septembre à Marrakech
DESCRIPTION:Leaderships féminins arabes et africains pour la culture de la paix \nLe congrès international consacré aux leaderships féminins arabes et africains pour la culture de la paix est de retour. Après une première édition en mars 2020\, perturbée par le début de la pandémie\, cette manifestation revient du 9 au 11 septembre à Marrakech le temps d’une deuxième édition sous le thème «Elle… fait la paix». «Ce sont plus de 30 pays qui y participent»\, détaille Anissa Nekrachi\, présidente du congrès initié par la fondation «Nour pour la solidarité avec la femme rurale» en coordination avec l’organisation marocaine pour l’équité familiale.
URL:https://founders.ma/agenda/un-2eme-congres-international-prevu-du-9-au-11-septembre-a-marrakech/
CATEGORIES:congres
ATTACH;FMTTYPE=image/jpeg:https://founders.ma/wp-content/uploads/2022/08/Anissa-Nekrachi-congrès-international-consacré-aux-leaderships-féminins-arabes-et-africains.jpeg
END:VEVENT
END:VCALENDAR