BEGIN:VCALENDAR
VERSION:2.0
PRODID:-//Founders.ma - ECPv6.15.20//NONSGML v1.0//EN
CALSCALE:GREGORIAN
METHOD:PUBLISH
X-WR-CALNAME:Founders.ma
X-ORIGINAL-URL:https://founders.ma
X-WR-CALDESC:Évènements pour Founders.ma
REFRESH-INTERVAL;VALUE=DURATION:PT1H
X-Robots-Tag:noindex
X-PUBLISHED-TTL:PT1H
BEGIN:VTIMEZONE
TZID:Europe/Paris
BEGIN:DAYLIGHT
TZOFFSETFROM:+0100
TZOFFSETTO:+0200
TZNAME:CEST
DTSTART:20210328T010000
END:DAYLIGHT
BEGIN:STANDARD
TZOFFSETFROM:+0200
TZOFFSETTO:+0100
TZNAME:CET
DTSTART:20211031T010000
END:STANDARD
BEGIN:DAYLIGHT
TZOFFSETFROM:+0100
TZOFFSETTO:+0200
TZNAME:CEST
DTSTART:20220327T010000
END:DAYLIGHT
BEGIN:STANDARD
TZOFFSETFROM:+0200
TZOFFSETTO:+0100
TZNAME:CET
DTSTART:20221030T010000
END:STANDARD
BEGIN:DAYLIGHT
TZOFFSETFROM:+0100
TZOFFSETTO:+0200
TZNAME:CEST
DTSTART:20230326T010000
END:DAYLIGHT
BEGIN:STANDARD
TZOFFSETFROM:+0200
TZOFFSETTO:+0100
TZNAME:CET
DTSTART:20231029T010000
END:STANDARD
END:VTIMEZONE
BEGIN:VEVENT
DTSTART;VALUE=DATE:20220918
DTEND;VALUE=DATE:20220921
DTSTAMP:20260423T151632
CREATED:20220831T082018Z
LAST-MODIFIED:20220831T082018Z
UID:4545-1663459200-1663718399@founders.ma
SUMMARY:Aéronautique : ABL Aviation partenaire à l’ISTAT EMEA 2022
DESCRIPTION:Marrakech abritera l’ISTAT EMEA\, événement regroupant les plus grands acteurs mondiaux de l’aviation commerciale\, du 18 au 20 septembre 2022. Pour cette édition\, Aviation ABL sera partenaire. \nL’ISTAT EMEA 2022 verra la participation d’ABL Aviation en tant que sponsor phare. Prévue 18 au 20 septembre à Marrakech\, ce colloque traitera de la promotion de l’aviation commerciale en Europe\, au Moyen-Orient et en Afrique. Il s’agit d’une 1ère pour le Maroc en tant qu’hôte d’une telle rencontre. Ainsi\, avec des thématiques comme l’investissement\, la sécurité\, l’optimisation des échanges ou encore la durabilité\, l’International Society of Transport Aircraft Trading (ISTAT) souhaite apporter des solutions concrètes aux protagonistes. \nEn tant que partenaire\, ABL Aviation partagera son expérience\, mais également sa vision quant à un secteur des plus prolifique. « L’aviation commerciale recèle de nombreuses opportunités\, que ce soit pour les compagnies aériennes ou les investisseurs. En permettant aux entrepreneurs de confronter leurs acquis et d’échanger dessus\, nous ouvrons la voie à davantage d’innovation et de croissance » a déclaré Ali Ben Lmadani\, Président Directeur Général du Groupe. \nEt d’ajouter « Nous souhaitons apporter une vraie valeur ajoutée à l’ISTAT EMEA et mobiliserons toutes les ressources nécessaires afin que ses hôtes puissent repartir avec de nouveaux outils\, de nouvelles données et surtout de brillantes idées ». L’événement verra\, également\, la participation de dizaines d’intervenants\, parmi les mieux référencés au monde. \nNotons que fort d’une présence sur 4 continents et d’une maitrise avérée du domaine\, le partenaire de l’ISTAT EMEA 2022 se positionne comme un acteur clé sur le marché international de l’aéronautique. Grâce à de très bons résultats et à de solides partenariats\, il a pu intégrer le top 54 des entreprises types. Il a des bureaux à New York\, Dublin\, Casablanca\, Dubaï et Hong Kong.
URL:https://founders.ma/agenda/aeronautique-abl-aviation-partenaire-a-listat-emea-2022/
ATTACH;FMTTYPE=image/jpeg:https://founders.ma/wp-content/uploads/2022/08/OUV77-59.jpeg
END:VEVENT
END:VCALENDAR