BEGIN:VCALENDAR
VERSION:2.0
PRODID:-//Founders.ma - ECPv6.15.20//NONSGML v1.0//EN
CALSCALE:GREGORIAN
METHOD:PUBLISH
X-WR-CALNAME:Founders.ma
X-ORIGINAL-URL:https://founders.ma
X-WR-CALDESC:Évènements pour Founders.ma
REFRESH-INTERVAL;VALUE=DURATION:PT1H
X-Robots-Tag:noindex
X-PUBLISHED-TTL:PT1H
BEGIN:VTIMEZONE
TZID:Europe/Paris
BEGIN:DAYLIGHT
TZOFFSETFROM:+0100
TZOFFSETTO:+0200
TZNAME:CEST
DTSTART:20210328T010000
END:DAYLIGHT
BEGIN:STANDARD
TZOFFSETFROM:+0200
TZOFFSETTO:+0100
TZNAME:CET
DTSTART:20211031T010000
END:STANDARD
BEGIN:DAYLIGHT
TZOFFSETFROM:+0100
TZOFFSETTO:+0200
TZNAME:CEST
DTSTART:20220327T010000
END:DAYLIGHT
BEGIN:STANDARD
TZOFFSETFROM:+0200
TZOFFSETTO:+0100
TZNAME:CET
DTSTART:20221030T010000
END:STANDARD
BEGIN:DAYLIGHT
TZOFFSETFROM:+0100
TZOFFSETTO:+0200
TZNAME:CEST
DTSTART:20230326T010000
END:DAYLIGHT
BEGIN:STANDARD
TZOFFSETFROM:+0200
TZOFFSETTO:+0100
TZNAME:CET
DTSTART:20231029T010000
END:STANDARD
END:VTIMEZONE
BEGIN:VEVENT
DTSTART;TZID=Europe/Paris:20220923T130000
DTEND;TZID=Europe/Paris:20220923T170000
DTSTAMP:20260423T151631
CREATED:20220826T100930Z
LAST-MODIFIED:20220826T100930Z
UID:4523-1663938000-1663952400@founders.ma
SUMMARY:Démo Day U-Founders – 3ème cohorte
DESCRIPTION:Le Programme d’incubation U-Founders organise le Démo Day de sa 3ème cohorte. \nCet événement est une occasion unique de rencontrer les différentes parties prenantes de l’écosystème entrepreneurial marocain : Entrepreneurs\, Investisseurs\, Mentors\, Corporates… \nCe Démo Day est avant tout une occasion de mettre en lumière les 30 startups technologiques ayant fait partie de cette 3ème cohorte\, afin de les connecter à de nouvelles opportunités. \nCes startups couvrent une dizaine de secteurs clés tels que l’Agriculture\, le transport ou encore l’industrie\, et ont pour mission d’améliorer la vie des populations africaines à travers des solutions innovantes. \nAu programme de ce Démo Day : \n\nKeynote\nDébat\nPitch des startups\nNetworking\nCocktail dinatoire\n\nEt bien d’autres surprises… \nNous avons hâte de vous accueillir tous à l’UM6P. \nInscrivez-vous dès maintenant !
URL:https://founders.ma/agenda/demo-day-u-founders-3eme-cohorte/
CATEGORIES:Bootcamp
ATTACH;FMTTYPE=image/png:https://founders.ma/wp-content/uploads/2022/08/Capture-décran-2022-08-26-à-11.09.02.png
END:VEVENT
END:VCALENDAR