BEGIN:VCALENDAR
VERSION:2.0
PRODID:-//Founders.ma - ECPv6.15.20//NONSGML v1.0//EN
CALSCALE:GREGORIAN
METHOD:PUBLISH
X-ORIGINAL-URL:https://founders.ma
X-WR-CALDESC:Évènements pour Founders.ma
REFRESH-INTERVAL;VALUE=DURATION:PT1H
X-Robots-Tag:noindex
X-PUBLISHED-TTL:PT1H
BEGIN:VTIMEZONE
TZID:Europe/Paris
BEGIN:DAYLIGHT
TZOFFSETFROM:+0100
TZOFFSETTO:+0200
TZNAME:CEST
DTSTART:20210328T010000
END:DAYLIGHT
BEGIN:STANDARD
TZOFFSETFROM:+0200
TZOFFSETTO:+0100
TZNAME:CET
DTSTART:20211031T010000
END:STANDARD
BEGIN:DAYLIGHT
TZOFFSETFROM:+0100
TZOFFSETTO:+0200
TZNAME:CEST
DTSTART:20220327T010000
END:DAYLIGHT
BEGIN:STANDARD
TZOFFSETFROM:+0200
TZOFFSETTO:+0100
TZNAME:CET
DTSTART:20221030T010000
END:STANDARD
BEGIN:DAYLIGHT
TZOFFSETFROM:+0100
TZOFFSETTO:+0200
TZNAME:CEST
DTSTART:20230326T010000
END:DAYLIGHT
BEGIN:STANDARD
TZOFFSETFROM:+0200
TZOFFSETTO:+0100
TZNAME:CET
DTSTART:20231029T010000
END:STANDARD
END:VTIMEZONE
BEGIN:VEVENT
DTSTART;VALUE=DATE:20221026
DTEND;VALUE=DATE:20221029
DTSTAMP:20260423T133636
CREATED:20220831T082539Z
LAST-MODIFIED:20220831T082539Z
UID:4553-1666742400-1667001599@founders.ma
SUMMARY:AUSIM : LA 6ÈME ÉDITION DES ASSISES DU 26 AU 28 OCTOBRE PROCHAIN À MARRAKECH
DESCRIPTION:L’Association des Utilisateurs des Systèmes d’Information au Maroc (AUSIM) organise du 26 au 28 Octobre prochain à Marrakech\, la 6ème édition des « Assises de l’AUSIM » sous le thème « Digital Nation : Unleash the potential ». \n« Digital nation\, libérez le potentiel »\, tel est le thème choisi pour les prochaines « Assises de l’AUSIM ». Un appel lancé aux différentes parties prenantes pour accélérer le processus de la transition vers une nation digitale numérique de confiance\, ouverte et numérique qui permet de libérer son énorme potentiel d’innovation et de croissance. \nCette édition\, après un report en 2020 à cause de la crise sanitaire\, revient en force du 26 au 28 Octobre 2022 et se veut particulièrement innovante à plusieurs titres notamment par sa nouvelle thématique\, une nouvelle dynamique (plusieurs side events)\, un nouveau format et surtout un rayonnement africain et international.
URL:https://founders.ma/agenda/ausim-la-6eme-edition-des-assises-du-26-au-28-octobre-prochain-a-marrakech/
CATEGORIES:conférence,congres
ATTACH;FMTTYPE=image/jpeg:https://founders.ma/wp-content/uploads/2022/08/AUSIM-Assises-visuel-scaled-e1656575713414.jpeg
END:VEVENT
END:VCALENDAR