BEGIN:VCALENDAR
VERSION:2.0
PRODID:-//Founders.ma - ECPv6.15.20//NONSGML v1.0//EN
CALSCALE:GREGORIAN
METHOD:PUBLISH
X-ORIGINAL-URL:https://founders.ma
X-WR-CALDESC:Évènements pour Founders.ma
REFRESH-INTERVAL;VALUE=DURATION:PT1H
X-Robots-Tag:noindex
X-PUBLISHED-TTL:PT1H
BEGIN:VTIMEZONE
TZID:Europe/Paris
BEGIN:DAYLIGHT
TZOFFSETFROM:+0100
TZOFFSETTO:+0200
TZNAME:CEST
DTSTART:20220327T010000
END:DAYLIGHT
BEGIN:STANDARD
TZOFFSETFROM:+0200
TZOFFSETTO:+0100
TZNAME:CET
DTSTART:20221030T010000
END:STANDARD
BEGIN:DAYLIGHT
TZOFFSETFROM:+0100
TZOFFSETTO:+0200
TZNAME:CEST
DTSTART:20230326T010000
END:DAYLIGHT
BEGIN:STANDARD
TZOFFSETFROM:+0200
TZOFFSETTO:+0100
TZNAME:CET
DTSTART:20231029T010000
END:STANDARD
BEGIN:DAYLIGHT
TZOFFSETFROM:+0100
TZOFFSETTO:+0200
TZNAME:CEST
DTSTART:20240331T010000
END:DAYLIGHT
BEGIN:STANDARD
TZOFFSETFROM:+0200
TZOFFSETTO:+0100
TZNAME:CET
DTSTART:20241027T010000
END:STANDARD
END:VTIMEZONE
BEGIN:VEVENT
DTSTART;VALUE=DATE:20230212
DTEND;VALUE=DATE:20230225
DTSTAMP:20260423T080043
CREATED:20230124T095306Z
LAST-MODIFIED:20230124T095306Z
UID:5326-1676160000-1677283199@founders.ma
SUMMARY:LCI GSEC 2023 | Concours international d’entrepreneuriat étudiant
DESCRIPTION:LCI – GSEC est un concours international d’entrepreneuriat ouvert à tous les étudiants de Collège LaSalle Casablanca – Rabat – Marrakech – Tanger – Montréal – Istanbul – Barcelone et Tunis\, ayant une idée d’entreprise et qui veulent lancer leur propre start-up ou business. Les étudiants intéressés devront s’inscrire sur Omnivox avant le 24 Février 2023 !
URL:https://founders.ma/agenda/lci-gsec-2023-concours-international-dentrepreneuriat-etudiant/
LOCATION:Collège LaSalle Marrakech\, Avenue abdelkrim El Khattabi\, Semlalia\, Marrakech\, 400000\, Morocco
CATEGORIES:concours
ATTACH;FMTTYPE=image/jpeg:https://founders.ma/wp-content/uploads/2023/01/CLT-LCI-GSEC-2023-inscription-ouverte-654x465-1.jpeg
END:VEVENT
BEGIN:VEVENT
DTSTART;TZID=Europe/Paris:20230222T210000
DTEND;TZID=Europe/Paris:20230222T220000
DTSTAMP:20260423T080043
CREATED:20230222T104404Z
LAST-MODIFIED:20230222T104515Z
UID:5682-1677099600-1677103200@founders.ma
SUMMARY:Need Assessment - Training Session
DESCRIPTION:digigirlzensamarrakech : Part of our commitment is not only empowering girls to pursue careers in STEM\, but also equip them with the skills they need to succeed in this industry. \nWhich is why we are proud to announce that on the 22nd we’ll have an online training session on “Need Assessment” hosted by the amazing Taoufik Aboudia!! \nIn addition to being the CEO at Emerging BusinessFactory\, Founder and associate at Webpick\, and President at Youth integrated policies Consultative Instance\, Marrakech Safi Regional Council\, he’s also VP at CGEM-MS\, General Confederation of Moroccan Entreprises.
URL:https://founders.ma/agenda/need-assessment-training-session/
CATEGORIES:Webinar
ATTACH;FMTTYPE=image/jpeg:https://founders.ma/wp-content/uploads/2023/02/332337851_718411269954956_4679752332373682761_n.jpeg
END:VEVENT
END:VCALENDAR