BEGIN:VCALENDAR
VERSION:2.0
PRODID:-//Founders.ma - ECPv6.15.20//NONSGML v1.0//EN
CALSCALE:GREGORIAN
METHOD:PUBLISH
X-ORIGINAL-URL:https://founders.ma
X-WR-CALDESC:Évènements pour Founders.ma
REFRESH-INTERVAL;VALUE=DURATION:PT1H
X-Robots-Tag:noindex
X-PUBLISHED-TTL:PT1H
BEGIN:VTIMEZONE
TZID:Europe/Paris
BEGIN:DAYLIGHT
TZOFFSETFROM:+0100
TZOFFSETTO:+0200
TZNAME:CEST
DTSTART:20220327T010000
END:DAYLIGHT
BEGIN:STANDARD
TZOFFSETFROM:+0200
TZOFFSETTO:+0100
TZNAME:CET
DTSTART:20221030T010000
END:STANDARD
BEGIN:DAYLIGHT
TZOFFSETFROM:+0100
TZOFFSETTO:+0200
TZNAME:CEST
DTSTART:20230326T010000
END:DAYLIGHT
BEGIN:STANDARD
TZOFFSETFROM:+0200
TZOFFSETTO:+0100
TZNAME:CET
DTSTART:20231029T010000
END:STANDARD
BEGIN:DAYLIGHT
TZOFFSETFROM:+0100
TZOFFSETTO:+0200
TZNAME:CEST
DTSTART:20240331T010000
END:DAYLIGHT
BEGIN:STANDARD
TZOFFSETFROM:+0200
TZOFFSETTO:+0100
TZNAME:CET
DTSTART:20241027T010000
END:STANDARD
END:VTIMEZONE
BEGIN:VEVENT
DTSTART;VALUE=DATE:20230502
DTEND;VALUE=DATE:20230508
DTSTAMP:20260423T124549
CREATED:20230427T082939Z
LAST-MODIFIED:20230427T082939Z
UID:5995-1682985600-1683503999@founders.ma
SUMMARY:SIAM 15ème Édition | Salon International de l'Agriculture
DESCRIPTION:Sous le Haut Patronage de Sa Majesté le Roi Mohammed VI\nLa 15ème édition du Salon International de l’Agriculture au Maroc se tiendra dans la ville impériale de Meknès du 02 au 07 mai 2023. \nLe SIAM\, lancé en 2006 par l’Initiative et la Volonté Royale\, continue de bénéficier du Haut Patronage de Sa Majesté le Roi Mohammed VI. \nLes éditions précédentes du salon ont été Inaugurées par Sa Majesté le Roi Mohammed VI\, par Son Altesse Royale le Prince Moulay Rachid\, ainsi que par Son Altesse Royale le Prince Héritier Moulay Al Hassan.
URL:https://founders.ma/agenda/siam-15eme-edition-salon-international-de-lagriculture/
LOCATION:Bassin de l’Adal : Sahrij Souani Ville Ancienne – Meknès.\, Meknès\, Morocco
ATTACH;FMTTYPE=image/jpeg:https://founders.ma/wp-content/uploads/2023/04/SIAM.jpg
END:VEVENT
BEGIN:VEVENT
DTSTART;VALUE=DATE:20230504
DTEND;VALUE=DATE:20230505
DTSTAMP:20260423T124549
CREATED:20230430T115539Z
LAST-MODIFIED:20230430T115539Z
UID:6008-1683158400-1683244799@founders.ma
SUMMARY:Journées du patrimoine
DESCRIPTION:
URL:https://founders.ma/agenda/journees-du-patrimoine/
LOCATION:Palais Badii\, Marrakech\, Morocco
CATEGORIES:Expositions
ATTACH;FMTTYPE=image/jpeg:https://founders.ma/wp-content/uploads/2023/04/WhatsApp-Image-2023-04-30-at-12.25.54-1.jpeg
END:VEVENT
END:VCALENDAR