BEGIN:VCALENDAR
VERSION:2.0
PRODID:-//Founders.ma - ECPv6.15.20//NONSGML v1.0//EN
CALSCALE:GREGORIAN
METHOD:PUBLISH
X-WR-CALNAME:Founders.ma
X-ORIGINAL-URL:https://founders.ma
X-WR-CALDESC:Évènements pour Founders.ma
REFRESH-INTERVAL;VALUE=DURATION:PT1H
X-Robots-Tag:noindex
X-PUBLISHED-TTL:PT1H
BEGIN:VTIMEZONE
TZID:Europe/Paris
BEGIN:DAYLIGHT
TZOFFSETFROM:+0100
TZOFFSETTO:+0200
TZNAME:CEST
DTSTART:20220327T010000
END:DAYLIGHT
BEGIN:STANDARD
TZOFFSETFROM:+0200
TZOFFSETTO:+0100
TZNAME:CET
DTSTART:20221030T010000
END:STANDARD
BEGIN:DAYLIGHT
TZOFFSETFROM:+0100
TZOFFSETTO:+0200
TZNAME:CEST
DTSTART:20230326T010000
END:DAYLIGHT
BEGIN:STANDARD
TZOFFSETFROM:+0200
TZOFFSETTO:+0100
TZNAME:CET
DTSTART:20231029T010000
END:STANDARD
BEGIN:DAYLIGHT
TZOFFSETFROM:+0100
TZOFFSETTO:+0200
TZNAME:CEST
DTSTART:20240331T010000
END:DAYLIGHT
BEGIN:STANDARD
TZOFFSETFROM:+0200
TZOFFSETTO:+0100
TZNAME:CET
DTSTART:20241027T010000
END:STANDARD
END:VTIMEZONE
BEGIN:VEVENT
DTSTART;TZID=Europe/Paris:20230516T140000
DTEND;TZID=Europe/Paris:20230516T160000
DTSTAMP:20260423T124456
CREATED:20230515T162621Z
LAST-MODIFIED:20230515T162621Z
UID:6095-1684245600-1684252800@founders.ma
SUMMARY:Visite MOCLAIR STATE UNIVERSITY
DESCRIPTION:
URL:https://founders.ma/agenda/visite-moclair-state-university/
LOCATION:Emerging Business Factory\, N61 QI SIDI GHANEM\, Marrakech\, Marrakech-Safi\, 40000\, Morocco
CATEGORIES:Visite
ATTACH;FMTTYPE=image/jpeg:https://founders.ma/wp-content/uploads/2023/05/WhatsApp-Image-2023-05-15-at-17.17.32.jpeg
END:VEVENT
BEGIN:VEVENT
DTSTART;TZID=Europe/Paris:20230516T180000
DTEND;TZID=Europe/Paris:20230516T210000
DTSTAMP:20260423T124456
CREATED:20230515T162151Z
LAST-MODIFIED:20230515T162335Z
UID:6089-1684260000-1684270800@founders.ma
SUMMARY:JIVEP* Maroc est La Journée Internationale du Vivre Ensemble en Paix
DESCRIPTION:JIVEP* Maroc est La Journée Internationale du Vivre Ensemble en Paix. À l’initiative d’un collectif de citoyens représenté à Marrakech par Mohammed Lamarti et Faouzia Elassooudi cet événement aura lieu le Mardi 16 mai 2023 au Meydene Centre culturel & Espace de conférences du M-Avenue Marrakech\, de 18h à 21h\, sous le thème « La paix à travers l’économie ». \nCet événement table ronde sous format Talks rassemblera des personnalités et acteurs influents et reconnus pour leur expertise dans leurs domaines respectifs\, ils mettront en lumière et partagerons sur l’importance de promouvoir la paix à travers l’économie et d’échanger des idées et des expériences en la matière. \nL’évènement sera animé par Taoufik Aboudia DG de EBF Incubateur parmi les conférenciers\, nous aurons le plaisir d’accueillir Rachid Achachi docteur en économie / DG Arkhé Consulting\, Hamid Bentahar CRT Marrakech\, Hamza Krimis\, professeur à la faculté des sciences\, juridiques\, économiques et sociales de Kelâa des Sraghna. \nMembre du GREB (groupe de Recherche en Économie du Bonheur) et Amine AIT MOUMMA \, responsable communication ALSA MAROC\, membre du GREB \, Président Sénat JCI Morocco (Jeune Chambre Internationale). L’initiative JIVEP Maroc vise à renforcer la collaboration entre ces acteurs\, à favoriser le dialogue et à créer des synergies pour une paix durable\, tout en mettant en lumière l’importance de l’économie en tant que vecteur de paix.
URL:https://founders.ma/agenda/jivep-maroc-est-la-journee-internationale-du-vivre-ensemble-en-paix/
LOCATION:Meydene\, Marrakech\, 40000\, Morocco
CATEGORIES:conférence
ATTACH;FMTTYPE=image/jpeg:https://founders.ma/wp-content/uploads/2023/05/Affiche-JIVEP-Marrakech-1920x1080-1.jpg
END:VEVENT
END:VCALENDAR