BEGIN:VCALENDAR
VERSION:2.0
PRODID:-//Founders.ma - ECPv6.15.20//NONSGML v1.0//EN
CALSCALE:GREGORIAN
METHOD:PUBLISH
X-ORIGINAL-URL:https://founders.ma
X-WR-CALDESC:Évènements pour Founders.ma
REFRESH-INTERVAL;VALUE=DURATION:PT1H
X-Robots-Tag:noindex
X-PUBLISHED-TTL:PT1H
BEGIN:VTIMEZONE
TZID:Europe/Paris
BEGIN:DAYLIGHT
TZOFFSETFROM:+0100
TZOFFSETTO:+0200
TZNAME:CEST
DTSTART:20220327T010000
END:DAYLIGHT
BEGIN:STANDARD
TZOFFSETFROM:+0200
TZOFFSETTO:+0100
TZNAME:CET
DTSTART:20221030T010000
END:STANDARD
BEGIN:DAYLIGHT
TZOFFSETFROM:+0100
TZOFFSETTO:+0200
TZNAME:CEST
DTSTART:20230326T010000
END:DAYLIGHT
BEGIN:STANDARD
TZOFFSETFROM:+0200
TZOFFSETTO:+0100
TZNAME:CET
DTSTART:20231029T010000
END:STANDARD
BEGIN:DAYLIGHT
TZOFFSETFROM:+0100
TZOFFSETTO:+0200
TZNAME:CEST
DTSTART:20240331T010000
END:DAYLIGHT
BEGIN:STANDARD
TZOFFSETFROM:+0200
TZOFFSETTO:+0100
TZNAME:CET
DTSTART:20241027T010000
END:STANDARD
END:VTIMEZONE
BEGIN:VEVENT
DTSTART;TZID=Europe/Paris:20230526T150000
DTEND;TZID=Europe/Paris:20230526T170000
DTSTAMP:20260423T125755
CREATED:20230523T122100Z
LAST-MODIFIED:20230523T122100Z
UID:6100-1685113200-1685120400@founders.ma
SUMMARY:Workshop : AI in Africa
DESCRIPTION:The workshop “AI in Africa: Principles and Best Practices for Building Trustworthy Applications” is a unique opportunity to explore the specific challenges Africa faces in using artificial intelligence (AI) and to develop solutions that meet local needs while maintaining user confidence.\nThe main objective of this workshop is to examine the key principles and best practices for building trustworthy AI applications in Africa. We will address key aspects such as: \n\nGoals &Critical touchpoints\nExplanations and failure modes\nAI onboarding\nTrust\nUser Controls\nUser feedback\nWhat about the Data?\nSolutions\n\n⏳Duration : 2hr\n🗓️ Date : Friday 26 Mai 2023\n🕑 Time : 3:00 PM\n📍 Location : Emerging Business Factory\n🇺🇸 Language : English
URL:https://founders.ma/agenda/workshop-ai-in-africa/
LOCATION:Emerging Business Factory\, N61 QI SIDI GHANEM\, Marrakech\, Marrakech-Safi\, 40000\, Morocco
CATEGORIES:Workshop
ATTACH;FMTTYPE=image/png:https://founders.ma/wp-content/uploads/2023/05/Workshop-AI-in-Africa-1.png
END:VEVENT
END:VCALENDAR