BEGIN:VCALENDAR
VERSION:2.0
PRODID:-//Founders.ma - ECPv6.15.20//NONSGML v1.0//EN
CALSCALE:GREGORIAN
METHOD:PUBLISH
X-ORIGINAL-URL:https://founders.ma
X-WR-CALDESC:Évènements pour Founders.ma
REFRESH-INTERVAL;VALUE=DURATION:PT1H
X-Robots-Tag:noindex
X-PUBLISHED-TTL:PT1H
BEGIN:VTIMEZONE
TZID:Europe/Paris
BEGIN:DAYLIGHT
TZOFFSETFROM:+0100
TZOFFSETTO:+0200
TZNAME:CEST
DTSTART:20220327T010000
END:DAYLIGHT
BEGIN:STANDARD
TZOFFSETFROM:+0200
TZOFFSETTO:+0100
TZNAME:CET
DTSTART:20221030T010000
END:STANDARD
BEGIN:DAYLIGHT
TZOFFSETFROM:+0100
TZOFFSETTO:+0200
TZNAME:CEST
DTSTART:20230326T010000
END:DAYLIGHT
BEGIN:STANDARD
TZOFFSETFROM:+0200
TZOFFSETTO:+0100
TZNAME:CET
DTSTART:20231029T010000
END:STANDARD
BEGIN:DAYLIGHT
TZOFFSETFROM:+0100
TZOFFSETTO:+0200
TZNAME:CEST
DTSTART:20240331T010000
END:DAYLIGHT
BEGIN:STANDARD
TZOFFSETFROM:+0200
TZOFFSETTO:+0100
TZNAME:CET
DTSTART:20241027T010000
END:STANDARD
END:VTIMEZONE
BEGIN:VEVENT
DTSTART;VALUE=DATE:20231017
DTEND;VALUE=DATE:20231020
DTSTAMP:20260423T184255
CREATED:20230207T095955Z
LAST-MODIFIED:20230207T095955Z
UID:5548-1697500800-1697759999@founders.ma
SUMMARY:Salon internationale de l’industrie agroalimentaire\, emballage et procédés de fabrication
DESCRIPTION:Le Salon internationale de l’industrie agroalimentaire\, emballage et procédés de fabrication se tiendra à Casablanca -Office des changes du 17 au 19 octobre 2023
URL:https://founders.ma/agenda/salon-internationale-de-lindustrie-agroalimentaire-emballage-et-procedes-de-fabrication/
LOCATION:CICEC – Centre International de Conférences et d’Expositions de l’Office des Changes\, Route d'el Jadida km 7\,5- N1\, Casablanca - MAROC\, casablanca\, Morocco
CATEGORIES:salon
ATTACH;FMTTYPE=image/png:https://founders.ma/wp-content/uploads/2023/02/SIEMA-1140x440-1.png
END:VEVENT
END:VCALENDAR