BEGIN:VCALENDAR
VERSION:2.0
PRODID:-//Founders.ma - ECPv6.15.20//NONSGML v1.0//EN
CALSCALE:GREGORIAN
METHOD:PUBLISH
X-WR-CALNAME:Founders.ma
X-ORIGINAL-URL:https://founders.ma
X-WR-CALDESC:Évènements pour Founders.ma
REFRESH-INTERVAL;VALUE=DURATION:PT1H
X-Robots-Tag:noindex
X-PUBLISHED-TTL:PT1H
BEGIN:VTIMEZONE
TZID:Europe/Paris
BEGIN:DAYLIGHT
TZOFFSETFROM:+0100
TZOFFSETTO:+0200
TZNAME:CEST
DTSTART:20220327T010000
END:DAYLIGHT
BEGIN:STANDARD
TZOFFSETFROM:+0200
TZOFFSETTO:+0100
TZNAME:CET
DTSTART:20221030T010000
END:STANDARD
BEGIN:DAYLIGHT
TZOFFSETFROM:+0100
TZOFFSETTO:+0200
TZNAME:CEST
DTSTART:20230326T010000
END:DAYLIGHT
BEGIN:STANDARD
TZOFFSETFROM:+0200
TZOFFSETTO:+0100
TZNAME:CET
DTSTART:20231029T010000
END:STANDARD
BEGIN:DAYLIGHT
TZOFFSETFROM:+0100
TZOFFSETTO:+0200
TZNAME:CEST
DTSTART:20240331T010000
END:DAYLIGHT
BEGIN:STANDARD
TZOFFSETFROM:+0200
TZOFFSETTO:+0100
TZNAME:CET
DTSTART:20241027T010000
END:STANDARD
END:VTIMEZONE
BEGIN:VEVENT
DTSTART;VALUE=DATE:20231211
DTEND;VALUE=DATE:20231216
DTSTAMP:20260423T215631
CREATED:20231211T100323Z
LAST-MODIFIED:20231211T100323Z
UID:6466-1702252800-1702684799@founders.ma
SUMMARY:Design Lab : Growing YCII
DESCRIPTION:Jour 1 (en ligne) – 11 Décembre 2023: \n\nRéunions en sous-groupes entre les participants et les coachs\nPrésentation du programme et des interlocuteurs\nPrésentation des coachs\, mentors et experts\nIntroduction des 30 projets des startups et attribution des coachs\n\nJour 2 – 12 Décembre 2023: \n\nDiscours d’ouverture sur le rôle des partenaires et témoignages des lauréats de la 1ère édition\nAtelier interactif sur la mise en place d’une chaîne de valeur écologique et durable\nFormations\, ateliers de travail et coaching chrono des startups par les coachs et mentors\n\nJour 3 – 13 Décembre 2023 : \n\nAtelier interactif sur l’écosystème régional et le financement des startups vertes\nFormations sur le business model durable et préparation du pitch\nAteliers de travail et coaching chrono\n\nJour 4 – 14 Décembre 2023: \n\nDerniers préparatifs et exercices avant les pitchs\nPitchs des startups devant un jury\nDélibération et sélection des startups pour l’incubation\n\nJour 5 – 15 Décembre 2023: \n\nAccueil des startups sélectionnées\nPrésentation de la phase d’incubation\nSignature des engagements et clôture
URL:https://founders.ma/agenda/design-lab-growing-ycii/
LOCATION:cité de l’innovation\, JXVJ+466\, Marrakech 40000\, Marrakech\, 40000\, Morocco
CATEGORIES:conférence,formation,Webinar
ATTACH;FMTTYPE=image/png:https://founders.ma/wp-content/uploads/2023/12/Artboard-1-1.png
END:VEVENT
BEGIN:VEVENT
DTSTART;VALUE=DATE:20231212
DTEND;VALUE=DATE:20231215
DTSTAMP:20260423T215631
CREATED:20231211T095307Z
LAST-MODIFIED:20231211T095307Z
UID:6462-1702339200-1702598399@founders.ma
SUMMARY:Le Sommet arabe de l'entrepreneuriat
DESCRIPTION:Organisé conjointement par le Ministère de l’Inclusion Économique de la petite entreprise\, de l’Emploi et des Compétences et par la Commission économique et sociale des Nations Unies pour l’Asie de l’Ouest (ESCWA)\, notre pays accueillera du 12 au 14 décembre 2023 le « Sommet arabe de l’entrepreneuriat » sous le thème « De la résilience à la prospérité ». \nCe sommet est une source d’inspiration\, d’autonomisation et de stimulation à l’échelle arabe et internationale\, offrant une opportunité unique aux entrepreneurs de tirer parti des opportunités interrégionales qui seront disponibles à travers diverses rencontres\, avec une représentation de haut niveau des pays arabes\, des organisations régionales et internationales\, ainsi que des entités spécialisées dans l’entrepreneuriat et le développement durable\, réunissant plus de 1000 participants\, et une élite spécialisée dans divers domaines tels que les investisseurs\, les influenceurs\, les décideurs\, les économistes\, les journalistes\, les organisations internationales et les donateurs. \nLes activités du sommet seront structurées autour de six grandes pistes de travail\, comprenant un parcours dédié aux décideurs et aux politiques (dialogue politique pour autonomiser l’entrepreneuriat dans la région arabe)\, des sessions de motivation et d’inspiration\, des ateliers interactifs\, une exposition des petites et moyennes entreprises\, une zone d’opportunités\, ainsi que des événements périphériques. En plus de ces pistes spécifiques\, des sessions de travail générales seront organisées tout au long de l’événement\, favorisant le réseautage\, l’échange\, la liaison et la mobilisation des engagements. \nCette édition vise à fournir une plateforme régionale de soutien à l’entrepreneuriat dans la région arabe en renforçant les partenariats et en élargissant les opportunités à travers les niveaux local\, national\, régional et international. Elle cherche à stimuler et inspirer les entrepreneurs arabes à travers des modèles d’entreprises régionaux et mondiaux et des success stories\, à renforcer l’accès des petites et moyennes entreprises aux opportunités et partenariats stratégiques pour favoriser leur croissance à l’échelle régionale et internationale\, à fournir des opportunités de communication\, de réseautage et de construction d’alliances stratégiques\, à renforcer les capacités des entrepreneurs et des PME\, et à faciliter l’échange de connaissances et d’expériences entre les décideurs politiques arabes pour créer les environnements habilitants les plus propices aux activités des petites et moyennes entreprises.
URL:https://founders.ma/agenda/le-sommet-arabe-de-lentrepreneuriat/
LOCATION:Marrakech\, Marrakech\, 40000\, Morocco
CATEGORIES:congres
ATTACH;FMTTYPE=image/jpeg:https://founders.ma/wp-content/uploads/2023/12/c4627eb0-7007-483c-8deb-87f00bc5f7e5.jpg
END:VEVENT
END:VCALENDAR