BEGIN:VCALENDAR
VERSION:2.0
PRODID:-//Founders.ma - ECPv6.15.20//NONSGML v1.0//EN
CALSCALE:GREGORIAN
METHOD:PUBLISH
X-ORIGINAL-URL:https://founders.ma
X-WR-CALDESC:Évènements pour Founders.ma
REFRESH-INTERVAL;VALUE=DURATION:PT1H
X-Robots-Tag:noindex
X-PUBLISHED-TTL:PT1H
BEGIN:VTIMEZONE
TZID:Europe/Paris
BEGIN:DAYLIGHT
TZOFFSETFROM:+0100
TZOFFSETTO:+0200
TZNAME:CEST
DTSTART:20220327T010000
END:DAYLIGHT
BEGIN:STANDARD
TZOFFSETFROM:+0200
TZOFFSETTO:+0100
TZNAME:CET
DTSTART:20221030T010000
END:STANDARD
BEGIN:DAYLIGHT
TZOFFSETFROM:+0100
TZOFFSETTO:+0200
TZNAME:CEST
DTSTART:20230326T010000
END:DAYLIGHT
BEGIN:STANDARD
TZOFFSETFROM:+0200
TZOFFSETTO:+0100
TZNAME:CET
DTSTART:20231029T010000
END:STANDARD
BEGIN:DAYLIGHT
TZOFFSETFROM:+0100
TZOFFSETTO:+0200
TZNAME:CEST
DTSTART:20240331T010000
END:DAYLIGHT
BEGIN:STANDARD
TZOFFSETFROM:+0200
TZOFFSETTO:+0100
TZNAME:CET
DTSTART:20241027T010000
END:STANDARD
END:VTIMEZONE
BEGIN:VEVENT
DTSTART;TZID=Europe/Paris:20231221T170000
DTEND;TZID=Europe/Paris:20231221T180000
DTSTAMP:20260423T215754
CREATED:20231221T092722Z
LAST-MODIFIED:20231221T092722Z
UID:6563-1703178000-1703181600@founders.ma
SUMMARY:La digitalisation des process des entreprises marocaines : Opportunités et enjeux ?
DESCRIPTION:🚀🔍 Joignez-vous à nous ce Jeudi 21 Décembre 2023 à 17h au HEM de Marrakech pour une exploration captivante sur “La digitalisation des process des entreprises marocaines : Opportunités et enjeux ?” 🌐🏢 \nHEM Business & Engineering School vous convie à la conférence “Décideurs en Question” pour découvrir les enjeux et les opportunités de la digitalisation des entreprises marocaines. \n🗓️ Date : Jeudi 21 Décembre 2023\n🕔 Heure : 17h\n📍 Lieu : HEM de Marrakech \n🎟️ Réservez votre place dès maintenant en scannant le QR Code sur l’affiche ! 📲
URL:https://founders.ma/agenda/la-digitalisation-des-process-des-entreprises-marocaines-opportunites-et-enjeux/
CATEGORIES:conférence
ATTACH;FMTTYPE=image/jpeg:https://founders.ma/wp-content/uploads/2023/12/WhatsApp-Image-2023-12-19-a-12.07.48_e6685c55.jpg
END:VEVENT
END:VCALENDAR