BEGIN:VCALENDAR
VERSION:2.0
PRODID:-//Founders.ma - ECPv6.15.20//NONSGML v1.0//EN
CALSCALE:GREGORIAN
METHOD:PUBLISH
X-WR-CALNAME:Founders.ma
X-ORIGINAL-URL:https://founders.ma
X-WR-CALDESC:Évènements pour Founders.ma
REFRESH-INTERVAL;VALUE=DURATION:PT1H
X-Robots-Tag:noindex
X-PUBLISHED-TTL:PT1H
BEGIN:VTIMEZONE
TZID:Europe/Paris
BEGIN:DAYLIGHT
TZOFFSETFROM:+0100
TZOFFSETTO:+0200
TZNAME:CEST
DTSTART:20230326T010000
END:DAYLIGHT
BEGIN:STANDARD
TZOFFSETFROM:+0200
TZOFFSETTO:+0100
TZNAME:CET
DTSTART:20231029T010000
END:STANDARD
BEGIN:DAYLIGHT
TZOFFSETFROM:+0100
TZOFFSETTO:+0200
TZNAME:CEST
DTSTART:20240331T010000
END:DAYLIGHT
BEGIN:STANDARD
TZOFFSETFROM:+0200
TZOFFSETTO:+0100
TZNAME:CET
DTSTART:20241027T010000
END:STANDARD
BEGIN:DAYLIGHT
TZOFFSETFROM:+0100
TZOFFSETTO:+0200
TZNAME:CEST
DTSTART:20250330T010000
END:DAYLIGHT
BEGIN:STANDARD
TZOFFSETFROM:+0200
TZOFFSETTO:+0100
TZNAME:CET
DTSTART:20251026T010000
END:STANDARD
END:VTIMEZONE
BEGIN:VEVENT
DTSTART;VALUE=DATE:20241123
DTEND;VALUE=DATE:20241125
DTSTAMP:20260424T130507
CREATED:20241114T151750Z
LAST-MODIFIED:20241114T151750Z
UID:9770-1732320000-1732492799@founders.ma
SUMMARY:The Moroccan Game Jam (MGJ) First Edition
DESCRIPTION:The Moroccan Game Developers Community by DAGA is Thrilled to Announce the First Edition of the Moroccan Game Jam (MGJ)! \n Register Now: https://lnkd.in/emtKQR6s \n Dates: Friday\, November 22 – Sunday\, November 24\, 2024\n Format: Hybrid (in-person & online) \nThe Moroccan Game Developers Community by DAGA community is proud to bring you the inaugural Moroccan Game Jam!\nA quick Shoot out to  MJCC وزارة الشباب والثقافة والتواصل  for supporting our event through their wonderful platform MGI (MoroccoGamingIndustry) and their wonderful people : mehdi bensaid\, Nissrine Souissi Mustapha Moufid\nAnd to all our partners for this first edition :\n1337 Coding School : Youssef Dahbi\, Larbi EL HILALI\nEmerging Business Factory : Taoufik Aboudia\nInstitut français du Maroc : Ayoub D. \, Meriem Jabi \, Mouad Meziaty \nWithout them this event wouldn’t have been possible at this scale\, thank you so much! \nThis nationwide event is set to unite gaming enthusiasts from all over Morocco\, inviting participants to team up and create games over three thrilling days. Whether you’re an experienced developer or just starting out\, this event is for anyone passionate about game creation.\n Event Breakdown \nDay 1 (Friday\, Online): Kickoff with theme announcement and brainstorming sessions.\nDay 2 (Saturday\, Hybrid): A full day dedicated to developing your game.\nDay 3 (Sunday\, Hybrid): Final development push\, submission\, and project showcase. \nHybrid Participation Options : Join us online or on-site (limited spots available at each location): \nCasablanca: French Institute of Casablanca – 20 spots\nRabat: French Institute of Rabat – 15 spots\nMarrakech: Emerging Business Factory (EBF) – 20 spots\nTetouan: 1337 Med – 20 spots \nHow to Participate: \nRegister to the event using this link : https://lnkd.in/emtKQR6s \nYou can participate either by working on : \nAn existing Project: Bring a project you are currently developing and continue working on it!\nA new project: Start from scratch\, creating a brand-new game inspired by the theme that will be announced on Friday 22 Online! \nJoin us to learn\, network\, and create with fellow developers\, artists\, and enthusiasts. Let’s push the boundaries of creativity and innovation in the Moroccan’s game development scene! \nLet’s push the boundaries of the Moroccan game development scene together! \nCredit : A Special thanks to Rachid Lansari for his work on this first edition MGJ Poster
URL:https://founders.ma/agenda/the-moroccan-game-jam-mgj-first-edition/
LOCATION:Emerging Business Factory\, N61 QI SIDI GHANEM\, Marrakech\, Marrakech-Safi\, 40000\, Morocco
CATEGORIES:conférence
ATTACH;FMTTYPE=image/jpeg:https://founders.ma/wp-content/uploads/2024/11/MGJ.jpg
ORGANIZER;CN="EBF - Emerging Business Factory":MAILTO:now@emergingbusinessfactory.com
END:VEVENT
END:VCALENDAR