BEGIN:VCALENDAR
VERSION:2.0
PRODID:-//Founders.ma - ECPv6.15.20//NONSGML v1.0//EN
CALSCALE:GREGORIAN
METHOD:PUBLISH
X-WR-CALNAME:Founders.ma
X-ORIGINAL-URL:https://founders.ma
X-WR-CALDESC:Évènements pour Founders.ma
REFRESH-INTERVAL;VALUE=DURATION:PT1H
X-Robots-Tag:noindex
X-PUBLISHED-TTL:PT1H
BEGIN:VTIMEZONE
TZID:Europe/Paris
BEGIN:DAYLIGHT
TZOFFSETFROM:+0100
TZOFFSETTO:+0200
TZNAME:CEST
DTSTART:20230326T010000
END:DAYLIGHT
BEGIN:STANDARD
TZOFFSETFROM:+0200
TZOFFSETTO:+0100
TZNAME:CET
DTSTART:20231029T010000
END:STANDARD
BEGIN:DAYLIGHT
TZOFFSETFROM:+0100
TZOFFSETTO:+0200
TZNAME:CEST
DTSTART:20240331T010000
END:DAYLIGHT
BEGIN:STANDARD
TZOFFSETFROM:+0200
TZOFFSETTO:+0100
TZNAME:CET
DTSTART:20241027T010000
END:STANDARD
BEGIN:DAYLIGHT
TZOFFSETFROM:+0100
TZOFFSETTO:+0200
TZNAME:CEST
DTSTART:20250330T010000
END:DAYLIGHT
BEGIN:STANDARD
TZOFFSETFROM:+0200
TZOFFSETTO:+0100
TZNAME:CET
DTSTART:20251026T010000
END:STANDARD
END:VTIMEZONE
BEGIN:VEVENT
DTSTART;TZID=Europe/Paris:20241226T170000
DTEND;TZID=Europe/Paris:20241226T190000
DTSTAMP:20260424T143908
CREATED:20241226T103043Z
LAST-MODIFIED:20241226T103043Z
UID:9880-1735232400-1735239600@founders.ma
SUMMARY:Portes ouvertes KTD - Mtech M Avenue
DESCRIPTION:Découvrez l’univers de l’innovation et du digital ! \n✨Rejoignez-nous pour les portes ouvertes de M Tech et plongez dans un monde de possibilités. Une occasion unique de rencontrer nos experts\, explorer nos installations\, et en savoir plus sur nos projets. Ne manquez pas cet événement exceptionnel. \n\n\nEmplacement\nMtech – M Avenue
URL:https://founders.ma/agenda/portes-ouvertes-ktd-mtech-m-avenue/
CATEGORIES:Portes ouverts
ATTACH;FMTTYPE=image/jpeg:https://founders.ma/wp-content/uploads/2024/12/ebf_14122024-01-scaled.jpg
END:VEVENT
END:VCALENDAR