BEGIN:VCALENDAR
VERSION:2.0
PRODID:-//Founders.ma - ECPv6.15.20//NONSGML v1.0//EN
CALSCALE:GREGORIAN
METHOD:PUBLISH
X-WR-CALNAME:Founders.ma
X-ORIGINAL-URL:https://founders.ma
X-WR-CALDESC:Évènements pour Founders.ma
REFRESH-INTERVAL;VALUE=DURATION:PT1H
X-Robots-Tag:noindex
X-PUBLISHED-TTL:PT1H
BEGIN:VTIMEZONE
TZID:Europe/Paris
BEGIN:DAYLIGHT
TZOFFSETFROM:+0100
TZOFFSETTO:+0200
TZNAME:CEST
DTSTART:20240331T010000
END:DAYLIGHT
BEGIN:STANDARD
TZOFFSETFROM:+0200
TZOFFSETTO:+0100
TZNAME:CET
DTSTART:20241027T010000
END:STANDARD
BEGIN:DAYLIGHT
TZOFFSETFROM:+0100
TZOFFSETTO:+0200
TZNAME:CEST
DTSTART:20250330T010000
END:DAYLIGHT
BEGIN:STANDARD
TZOFFSETFROM:+0200
TZOFFSETTO:+0100
TZNAME:CET
DTSTART:20251026T010000
END:STANDARD
BEGIN:DAYLIGHT
TZOFFSETFROM:+0100
TZOFFSETTO:+0200
TZNAME:CEST
DTSTART:20260329T010000
END:DAYLIGHT
BEGIN:STANDARD
TZOFFSETFROM:+0200
TZOFFSETTO:+0100
TZNAME:CET
DTSTART:20261025T010000
END:STANDARD
END:VTIMEZONE
BEGIN:VEVENT
DTSTART;TZID=Europe/Paris:20250118T100000
DTEND;TZID=Europe/Paris:20250118T130000
DTSTAMP:20260424T162448
CREATED:20250108T105154Z
LAST-MODIFIED:20250108T105154Z
UID:9888-1737194400-1737205200@founders.ma
SUMMARY:Donne vie à tes idées grâce à notre workshop « Product Design 3D & Mockups » !
DESCRIPTION:Les inscriptions à notre workshop exclusif « Product Design 3D & Mockups » sont officiellement ouvertes !\nDécouvre toutes les infos ici :  https://www.ecoledudigital.ma/masterclasses/design-de-produit-mockups/ \n⏱️ Rythme : 3 séances successives de 3 heures chacune\n Dates : 18 et 25 janvier et 1er février 2025\, de 10h à 13h\n Lieu : Emerging Business Factory\n Prix : 1000 DHS pour l’ensemble des 3 séances\n Paiement : 2 modes de paiement au choix\n• Par virement bancaire au RIB n°225450022007700651022255 – Banque Crédit Agricole Maroc\n• En espèces à notre bureau situé à Emerging Business Factory\n Important : Le paiement doit être effectué avant le 16 janvier 2025\n Rappel : Pense à envoyer ton justificatif de virement bancaire à souhaili@emerging.africa pour valider ton inscription \nPourquoi participer ? \n✅ Maîtrise des outils clés du design produit : Familiarise-toi avec les meilleures pratiques de modélisation 3D et d’édition de mockups.\n✅ Création d’un portfolio impactant : Repars avec des créations qui impressionneront recruteurs et clients.\n✅ Méthode par projet : Travaille en immersion et selon ton propre rythme sur ton produit ou projet.\n✅ Formateurs experts : Bénéficie des conseils pratiques d’un professionnel VR/AR reconnu. \n➡️ Réserve ta place maintenant ! : https://www.ecoledudigital.ma/masterclasses/design-de-produit-mockups/ \nN’hésite pas à nous contacter au 0769481715 si tu as la moindre question.\nÀ très bientôt pour concrétiser tes projets de design en 3D et mockups ! \nL’équipe de L’Ecole du Digital
URL:https://founders.ma/agenda/donne-vie-a-tes-idees-grace-a-notre-workshop-product-design-3d-mockups/
LOCATION:Emerging Business Factory\, N61 QI SIDI GHANEM\, Marrakech\, Marrakech-Safi\, 40000\, Morocco
CATEGORIES:Workshop
ATTACH;FMTTYPE=image/jpeg:https://founders.ma/wp-content/uploads/2025/01/Visuel_NL-scaled.jpg
ORGANIZER;CN="EBF - Emerging Business Factory":MAILTO:now@emergingbusinessfactory.com
END:VEVENT
END:VCALENDAR