BEGIN:VCALENDAR
VERSION:2.0
PRODID:-//Founders.ma - ECPv6.15.20//NONSGML v1.0//EN
CALSCALE:GREGORIAN
METHOD:PUBLISH
X-WR-CALNAME:Founders.ma
X-ORIGINAL-URL:https://founders.ma
X-WR-CALDESC:Évènements pour Founders.ma
REFRESH-INTERVAL;VALUE=DURATION:PT1H
X-Robots-Tag:noindex
X-PUBLISHED-TTL:PT1H
BEGIN:VTIMEZONE
TZID:UTC
BEGIN:STANDARD
TZOFFSETFROM:+0000
TZOFFSETTO:+0000
TZNAME:UTC
DTSTART:20200101T000000
END:STANDARD
END:VTIMEZONE
BEGIN:VEVENT
DTSTART;VALUE=DATE:20211110
DTEND;VALUE=DATE:20211111
DTSTAMP:20260424T061150
CREATED:20211110T202112Z
LAST-MODIFIED:20211110T202112Z
UID:402-1636502400-1636588799@founders.ma
SUMMARY:L’entreprenariat au cœur du nouveau modèle
DESCRIPTION:
URL:https://founders.ma/agenda/lentreprenariat-au-coeur-du-nouveau-modele/
END:VEVENT
BEGIN:VEVENT
DTSTART;TZID=UTC:20211111T080000
DTEND;TZID=UTC:20211111T170000
DTSTAMP:20260424T061150
CREATED:20211111T100357Z
LAST-MODIFIED:20211111T100357Z
UID:409-1636617600-1636650000@founders.ma
SUMMARY:CARTE BLANCHE À GORDON
DESCRIPTION:
URL:https://founders.ma/agenda/carte-blanche-a-gordon/
END:VEVENT
BEGIN:VEVENT
DTSTART;TZID=UTC:20211112T180000
DTEND;TZID=UTC:20211112T200000
DTSTAMP:20260424T061150
CREATED:20211110T141412Z
LAST-MODIFIED:20211110T170649Z
UID:389-1636740000-1636747200@founders.ma
SUMMARY:Présentation du livre Héritages par son auteur Taha Balafrej
DESCRIPTION:61\, Quartier Industriel Sidi Ghanem Route Safi À côté de la MouqataâaTaha Balafrej\, auteur du livre « Héritages »\, nous fais l’honneur de sa présence le vendredi 12 novembre au sein d’Emerging Business Factory ! \nAu programme\, une présentation de I’œuvre\, une lecture d’extraits\, une session questions/ réponses et nous terminerons en musique avec Farid Drif ! \nDe docteur en mathématique jusqu’à la création d’Agadir Connect Institute\, Taha Balafrej a toujours eu à cœur de partager son savoir et les leçons de ses diverses expériences. Depuis 2014 il accompagne la jeunesse marocaine dans la réussite de leurs vies professionnelles et personnelles. \nC’est donc tout naturellement que Taha Balafrej nous dévoile son œuvre « Héritage »\, un mélange harmonieux de lieux et d’expériences qui ont bercés sa vie. \nUn appel à la jeunesse marocaine qui vit une ère nouvelle autour des nouvelles technologies\, de rester connecter à la culture de notre belle région Agadir Souss Massa afin de ne pas perdre cet héritage riche et précieux. \nL’occasion pour les amoureux de lecture et les curieux de découvrir un auteur unique.
URL:https://founders.ma/agenda/heritages-taha-balafrej/
LOCATION:Emerging Business Factory\, N61 QI SIDI GHANEM\, Marrakech\, Marrakech-Safi\, 40000\, Morocco
ATTACH;FMTTYPE=image/jpeg:https://founders.ma/wp-content/uploads/2021/11/Presentation-du-livre-Heritages-par-son-auteur-Taha-Balafrej.jpeg
ORGANIZER;CN="EBF - Emerging Business Factory":MAILTO:now@emergingbusinessfactory.com
END:VEVENT
BEGIN:VEVENT
DTSTART;TZID=UTC:20211124T180000
DTEND;TZID=UTC:20211124T190000
DTSTAMP:20260424T061150
CREATED:20211124T163017Z
LAST-MODIFIED:20211124T163425Z
UID:477-1637776800-1637780400@founders.ma
SUMMARY:Ecosystème entrepreneuriaux pour une dynamique entrepreneuriale au service des territoires. FNACE Marrakech-Safi
DESCRIPTION:LES RENCONTRES DE L’ENTREPRENEURIAT – By FNACE
URL:https://founders.ma/agenda/ecosysteme-entrepreneuriaux-pour-une-dynamique-entrepreneuriale-au-service-des-territoires-fnace-marrakech-safi/
ATTACH;FMTTYPE=image/jpeg:https://founders.ma/wp-content/uploads/2021/11/WhatsApp-Image-2021-11-24-at-18.12.51.jpeg
END:VEVENT
END:VCALENDAR