BEGIN:VCALENDAR
VERSION:2.0
PRODID:-//Founders.ma - ECPv6.15.20//NONSGML v1.0//EN
CALSCALE:GREGORIAN
METHOD:PUBLISH
X-WR-CALNAME:Founders.ma
X-ORIGINAL-URL:https://founders.ma
X-WR-CALDESC:Évènements pour Founders.ma
REFRESH-INTERVAL;VALUE=DURATION:PT1H
X-Robots-Tag:noindex
X-PUBLISHED-TTL:PT1H
BEGIN:VTIMEZONE
TZID:UTC
BEGIN:STANDARD
TZOFFSETFROM:+0000
TZOFFSETTO:+0000
TZNAME:UTC
DTSTART:20210101T000000
END:STANDARD
END:VTIMEZONE
BEGIN:VTIMEZONE
TZID:Europe/Paris
BEGIN:DAYLIGHT
TZOFFSETFROM:+0100
TZOFFSETTO:+0200
TZNAME:CEST
DTSTART:20210328T010000
END:DAYLIGHT
BEGIN:STANDARD
TZOFFSETFROM:+0200
TZOFFSETTO:+0100
TZNAME:CET
DTSTART:20211031T010000
END:STANDARD
BEGIN:DAYLIGHT
TZOFFSETFROM:+0100
TZOFFSETTO:+0200
TZNAME:CEST
DTSTART:20220327T010000
END:DAYLIGHT
BEGIN:STANDARD
TZOFFSETFROM:+0200
TZOFFSETTO:+0100
TZNAME:CET
DTSTART:20221030T010000
END:STANDARD
BEGIN:DAYLIGHT
TZOFFSETFROM:+0100
TZOFFSETTO:+0200
TZNAME:CEST
DTSTART:20230326T010000
END:DAYLIGHT
BEGIN:STANDARD
TZOFFSETFROM:+0200
TZOFFSETTO:+0100
TZNAME:CET
DTSTART:20231029T010000
END:STANDARD
END:VTIMEZONE
BEGIN:VEVENT
DTSTART;TZID=UTC:20220103T100000
DTEND;TZID=UTC:20220107T220000
DTSTAMP:20260424T023352
CREATED:20211224T140457Z
LAST-MODIFIED:20211224T140457Z
UID:823-1641204000-1641592800@founders.ma
SUMMARY:The Global Existential Summit - Mission #1
DESCRIPTION:Join 25 World Leading Existential Thinkers as they share their wisdom\, inspiration\, and hope for the healing of human existence.\n\n\n\n\n\nAbout this event\n\n\nWelcome\, friends and curious humans. \nYou are warmly invited to join The Global Existential Summit on our first mission. During this 5 Day Summit we will explore philosophy\, wellbeing\, and creativity with 25 of the World’s Leading Existential Thinkers from around the globe. \nAre you ready to ponder and laugh\, to cry and to heal? \nIt is time for an era of diversity\, inclusivity\, love\, and respect. Together\, we can make this happen. \nHome
URL:https://founders.ma/agenda/the-global-existential-summit-mission-1/
ATTACH;FMTTYPE=image/jpeg:https://founders.ma/wp-content/uploads/2021/12/https___cdn.evbuc_.com_images_145768593_566763617957_1_original.jpeg
END:VEVENT
BEGIN:VEVENT
DTSTART;TZID=UTC:20220106T080000
DTEND;TZID=UTC:20220106T180000
DTSTAMP:20260424T023352
CREATED:20211214T104532Z
LAST-MODIFIED:20211214T104532Z
UID:635-1641456000-1641492000@founders.ma
SUMMARY:WEBCONGRESS AFRICA 2022
DESCRIPTION:For the 1st time ever #WebCongress is coming to North Africa. The leading Digital Marketing\, Entrepreneurship\, Innovation & Tech Conference!
URL:https://founders.ma/agenda/webcongress-africa-2022/
CATEGORIES:congres
ATTACH;FMTTYPE=image/jpeg:https://founders.ma/wp-content/uploads/2021/12/https___cdn.evbuc_.com_images_163849139_9846581945_1_original.jpeg
END:VEVENT
BEGIN:VEVENT
DTSTART;TZID=UTC:20220108T100000
DTEND;TZID=UTC:20220108T140000
DTSTAMP:20260424T023352
CREATED:20220106T074943Z
LAST-MODIFIED:20220107T103152Z
UID:1149-1641636000-1641650400@founders.ma
SUMMARY:L'agilité et l'innovation : Moteurs de l'activité entrepreneuriale pour un Maroc performant
DESCRIPTION:Taoufik Aboudia et Emerging Business Factory sont conviés ce samedi 8 janvier dès 9h30 à l’occasion du séminaire organisé par la HJE autour de l’Agilité et l’Innovation en entreprise. Deux sujets qui seront déclinés sous différents axes :\n– Innovation : concept à multiples facettes.\n– L’impact de l’agilité et de l’innovation sur l’entreprise\n– Comment être innovant et agile ? La question que doit se poser toute entreprise pour atteindre ses objectifs ?\n– Quels sont les facteurs qui freinent la création et le management d’une entreprise innovante ?\n– Au regard des contraintes entravant l’innovation\, quelles solutions apportées ?\nTant de sujets pertinents qui doivent être leviers de l’activité entrepreneuriale pour un Maroc performant.
URL:https://founders.ma/agenda/lagilite-et-linnovation-moteurs-de-lactivite-entrepreneuriale-pour-un-maroc-performant/
LOCATION:Marrakech\, Marrakech\, 40000\, Morocco
ATTACH;FMTTYPE=image/jpeg:https://founders.ma/wp-content/uploads/2022/01/WhatsApp-Image-2022-01-05-at-17.56.20.jpeg
END:VEVENT
BEGIN:VEVENT
DTSTART;VALUE=DATE:20220109
DTEND;VALUE=DATE:20220110
DTSTAMP:20260424T023352
CREATED:20220104T124614Z
LAST-MODIFIED:20220104T124614Z
UID:1144-1641686400-1641772799@founders.ma
SUMMARY:4ème édition SALON MEETINGS MOROCCO
DESCRIPTION:Meetings Morocco est une rencontre unique au Maroc\, qui vous permet de rentrer en contact avec les organisateurs d’événements locaux et internationaux.
URL:https://founders.ma/agenda/4eme-edition-salon-meetings-morocco/
LOCATION:Marrakech\, Marrakech\, 40000\, Morocco
ATTACH;FMTTYPE=image/jpeg:https://founders.ma/wp-content/uploads/2022/01/meetings-morocco.jpg
END:VEVENT
BEGIN:VEVENT
DTSTART;TZID=Europe/Paris:20220113T183000
DTEND;TZID=Europe/Paris:20220113T210000
DTSTAMP:20260424T023352
CREATED:20220112T072410Z
LAST-MODIFIED:20220112T075739Z
UID:1187-1642098600-1642107600@founders.ma
SUMMARY:Emerging People #17 : LEVITATION
DESCRIPTION:Episode XVII des afterworks Emerging People. \nDans l’épisode précédent\, nous avons signé avec l’ensemble des convives un pacte créatif et nous vous avons donné rendez-vous pour la sortie de notre étude sur les industries créatives et culturelles\, laquelle étude trace la voie d’une ville au renouveau perpétuel et d’une région en rendez-vous avec un grand dessein. \nUn mot d’ordre pour ce nouvel épisode inédit : Espoir\, c’est avec une bonne dose en tout cas que nous vous invitons à nous rejoindre pour un moment de lévitation\, moment précieux dans lequel nous allons nous faire porter par la magie du réseautage et des intelligences émotionnelles et collectives à survoler l’instant présent et prendre de l’altitude pour voir de quel horizon viendra la lumière. \nPendant deux heures comptées au chrono\, nos partenaires seront là\, une belle brochette d’acteurs et de militants auxquels se joindront dans un précieux alliage nos jeunes entrepreneurs qui viennent avec enthousiasme et entrain. La famille EBF n’a de lieu pour s’épanouir qu’auprès de ce singulier tissu d’opérateurs et de porteurs de projets et d’initiatives qui adoptent pour rituel mensuel les afterworks Emerging People.
URL:https://founders.ma/agenda/emerging-people-17-levitation/
LOCATION:Marrakech\, Marrakech\, 40000\, Morocco
ATTACH;FMTTYPE=image/jpeg:https://founders.ma/wp-content/uploads/2022/01/EP01-22-EB-1.jpg
ORGANIZER;CN="EBF - Emerging Business Factory":MAILTO:now@emergingbusinessfactory.com
END:VEVENT
BEGIN:VEVENT
DTSTART;TZID=UTC:20220117T090000
DTEND;TZID=UTC:20220121T190000
DTSTAMP:20260424T023352
CREATED:20211209T091420Z
LAST-MODIFIED:20211209T091420Z
UID:538-1642410000-1642791600@founders.ma
SUMMARY:Africa IT Days
DESCRIPTION:Le rendez-vous incontournable des Talents de l’IT et de la Transformation Digitale.\nAprès le succès de sa première édition ” 2020 GO! ” en Novembre 2020\, ayant réuni plus de 5 000 participants et 40 entreprises et partenaires\, le rendez-vous annuel de recrutement et de partage\, destiné aux professionnels du Digital et de l’ IT est de retour dans sa 2nd édition avec une cible plus élargie.\nCet événement représente un excellent moyen\, notamment pour les jeunes diplômés et les talents expérimentés\, qui évoluent dans les métiers de l’IT et du Digital\, d’établir un contact avec différentes entreprises qui opèrent dans le secteur\, mais aussi de découvrir de près les métiers et les technologies de tendances.\nAfrica IT Days aura lieu virtuellement du 17 au 21 janvier 2022
URL:https://founders.ma/agenda/africa-it-days/
ATTACH;FMTTYPE=image/jpeg:https://founders.ma/wp-content/uploads/2021/12/260406341_4910782208952324_4012611075252567703_n.jpg
END:VEVENT
BEGIN:VEVENT
DTSTART;TZID=Europe/Paris:20220118T110000
DTEND;TZID=Europe/Paris:20220118T130000
DTSTAMP:20260424T023352
CREATED:20220106T081158Z
LAST-MODIFIED:20220106T081158Z
UID:1152-1642503600-1642510800@founders.ma
SUMMARY:TRANSFORMATION DIGITALE : QUELS DÉFIS POUR 2022 ?
DESCRIPTION:Les transformations technologiques et sociétales s’accélèrent sous l’effet d’une crise sanitaire qui se prolonge. Quelles bonnes pratiques retenir pour s’accrocher au train digital et quels écueils éviter en 2022 ? C’est tout le propos de ce Webinaire à ne pas rater !
URL:https://founders.ma/agenda/transformation-digitale-quels-defis-pour-2022/
ATTACH;FMTTYPE=image/jpeg:https://founders.ma/wp-content/uploads/2022/01/1641373875042-1.jpeg
END:VEVENT
BEGIN:VEVENT
DTSTART;TZID=Europe/Paris:20220121T110000
DTEND;TZID=Europe/Paris:20220121T120000
DTSTAMP:20260424T023352
CREATED:20220120T123523Z
LAST-MODIFIED:20220120T123523Z
UID:1224-1642762800-1642766400@founders.ma
SUMMARY:La Cybersécurité des Systèmes opérationnels et industriels
DESCRIPTION:L’interdépendance numérique dans les systèmes industriels incite les entreprises à imaginer des stratégies réunissant les Technologies de l’Information (IT) et les Technologies Opérationnelles (OT). Si ces deux technologies fonctionnent historiquement en silo\, la multiplication des cyberattaques sur les infrastructures opérationnelles poussent l’IT à agir sur la sécurisation des systèmes industriels. \n\nComment aligner IT et OT pour assurer le succès de votre transformation numérique ? \nComment appréhender de façon globale les risques pesant sur vos systèmes industriels ?\nQuels défis pour le court et moyen terme dans nos usines et nos systèmes OT connectés ?
URL:https://founders.ma/agenda/la-cybersecurite-des-systemes-operationnels-et-industriels/
CATEGORIES:Webinar
ATTACH;FMTTYPE=image/jpeg:https://founders.ma/wp-content/uploads/2022/01/3794.jpeg
END:VEVENT
BEGIN:VEVENT
DTSTART;TZID=UTC:20220125T090000
DTEND;TZID=UTC:20220125T100000
DTSTAMP:20260424T023352
CREATED:20220120T125144Z
LAST-MODIFIED:20220120T125144Z
UID:1228-1643101200-1643104800@founders.ma
SUMMARY:Le social listening \, cela se passe comment ?
DESCRIPTION:C’est un concept puissant pour les décideurs Marketing et Communication. Un principe simple – écouter les réseaux sociaux pour agir – aux bénéfices multiples : \n\nProtéger votre marque et gérer votre e-reputation\nMesurer votre performance et construire un reporting\nMieux connaitre votre marché : tendances\, veille concurrentielle….\nOptimiser vos décisions business\n\nAu programme : \n\nQue permet vraiment le Social Listening ?\nQuels sont les usages en cours dans les entreprises\nPourquoi le faire ?\nA quoi ça sert ?\nComment le déployer en entreprise ?
URL:https://founders.ma/agenda/le-social-listening-cela-se-passe-comment/
ATTACH;FMTTYPE=image/jpeg:https://founders.ma/wp-content/uploads/2022/01/Capture-décran-2022-01-02-à-16.20.45.jpg
END:VEVENT
BEGIN:VEVENT
DTSTART;TZID=UTC:20220127T140000
DTEND;TZID=UTC:20220127T150000
DTSTAMP:20260424T023352
CREATED:20220120T125656Z
LAST-MODIFIED:20220120T125656Z
UID:1232-1643292000-1643295600@founders.ma
SUMMARY:6 pratiques e-commerce à implémenter en 2022 pour faire décoller votre business
DESCRIPTION:En tant qu’E-commerçant\, votre challenge permanent est d’améliorer votre acquisition\, votre taux de transformation et la fidélisation client. \nEn 30 minutes\, découvrez 6 pratiques E-commerce qui vont vous permettre d’accélérer votre croissance\, entre autres : \n\nStratégies SEO produit\,\nSearchandising\,\nPersonnalisation\,\nStratégie de contenu\,\nVidéo et outils de fidélisation\n\nUne conférence animée par Marine Soroko\, Directrice Associée Adimeo
URL:https://founders.ma/agenda/6-pratiques-e-commerce-a-implementer-en-2022-pour-faire-decoller-votre-business/
CATEGORIES:Webinar
ATTACH;FMTTYPE=image/jpeg:https://founders.ma/wp-content/uploads/2022/01/pickawood-gf8e6XvG_3E-unsplash_0.jpeg
END:VEVENT
BEGIN:VEVENT
DTSTART;TZID=UTC:20220128T110000
DTEND;TZID=UTC:20220128T120000
DTSTAMP:20260424T023352
CREATED:20220120T134325Z
LAST-MODIFIED:20220120T134325Z
UID:1236-1643367600-1643371200@founders.ma
SUMMARY:Mail Privacy Protection : Quel impact sur l'Efficacité Marketing ?
DESCRIPTION:Depuis la mise en place du « Mail Privacy Protection » par Apple\, les responsables de campagnes marketing tentent de comprendre les implications que ces nouvelles fonctionnalités pourraient avoir sur la façon dont ils mesurent et suivent les e-mails. En effet\, Apple proposer aux utilisateurs de bloquer les fonctionnalités suivantes : \n\ndésactivation des pixels invisibles : ce qui va empêcher de suivre notamment les ouvertures d’email. C’est Apple qui va télécharger le contenu distant et masquer l’action réelle de l’utilisateur.\nmasquage de l’adresse IP de l’utilisateur : cela va rendre inefficaces les campagnes de geotargeting par exemple.\n\nMême si cette fonctionnalité n’est pas active par défaut\, elle va forcément avoir des effets indésirables. A travers ce webinar et grâce aux témoignages de nos experts\, les intervenants répondront aux interrogations du moment : \n\nQuel va être l’impact réel de ces blocages sur les campagnes e-mailing et le suivi de leur performance ?\nQuelles sont les actions à mettre en place pour faire face à cette mesure ?
URL:https://founders.ma/agenda/mail-privacy-protection-quel-impact-sur-lefficacite-marketing/
CATEGORIES:Webinar
ATTACH;FMTTYPE=image/jpeg:https://founders.ma/wp-content/uploads/2022/01/3729.jpeg
END:VEVENT
END:VCALENDAR