BEGIN:VCALENDAR
VERSION:2.0
PRODID:-//Founders.ma - ECPv6.15.20//NONSGML v1.0//EN
CALSCALE:GREGORIAN
METHOD:PUBLISH
X-WR-CALNAME:Founders.ma
X-ORIGINAL-URL:https://founders.ma
X-WR-CALDESC:Évènements pour Founders.ma
REFRESH-INTERVAL;VALUE=DURATION:PT1H
X-Robots-Tag:noindex
X-PUBLISHED-TTL:PT1H
BEGIN:VTIMEZONE
TZID:Europe/Paris
BEGIN:DAYLIGHT
TZOFFSETFROM:+0100
TZOFFSETTO:+0200
TZNAME:CEST
DTSTART:20210328T010000
END:DAYLIGHT
BEGIN:STANDARD
TZOFFSETFROM:+0200
TZOFFSETTO:+0100
TZNAME:CET
DTSTART:20211031T010000
END:STANDARD
BEGIN:DAYLIGHT
TZOFFSETFROM:+0100
TZOFFSETTO:+0200
TZNAME:CEST
DTSTART:20220327T010000
END:DAYLIGHT
BEGIN:STANDARD
TZOFFSETFROM:+0200
TZOFFSETTO:+0100
TZNAME:CET
DTSTART:20221030T010000
END:STANDARD
BEGIN:DAYLIGHT
TZOFFSETFROM:+0100
TZOFFSETTO:+0200
TZNAME:CEST
DTSTART:20230326T010000
END:DAYLIGHT
BEGIN:STANDARD
TZOFFSETFROM:+0200
TZOFFSETTO:+0100
TZNAME:CET
DTSTART:20231029T010000
END:STANDARD
END:VTIMEZONE
BEGIN:VTIMEZONE
TZID:UTC
BEGIN:STANDARD
TZOFFSETFROM:+0000
TZOFFSETTO:+0000
TZNAME:UTC
DTSTART:20210101T000000
END:STANDARD
END:VTIMEZONE
BEGIN:VEVENT
DTSTART;TZID=Europe/Paris:20220301T110000
DTEND;TZID=Europe/Paris:20220301T130000
DTSTAMP:20260423T232521
CREATED:20220228T193758Z
LAST-MODIFIED:20220228T193758Z
UID:3730-1646132400-1646139600@founders.ma
SUMMARY:CRI MEETING DAY #5
DESCRIPTION:Rendez-vous le 01 mars à 11h\, pour la 5éme édition des CRI MEETING DAYS\, autour du théme E-Commerce : Vecteur de croissance post covid pour les TPME ! \nEntrepreneurs ! retrouvez experts et serial entrepreneurs pour en savoir plus sur comment améliorer la performance de votre business!
URL:https://founders.ma/agenda/cri-meeting-day-5/
CATEGORIES:Webinar
ATTACH;FMTTYPE=image/jpeg:https://founders.ma/wp-content/uploads/2022/02/1646063652338.jpg
END:VEVENT
BEGIN:VEVENT
DTSTART;TZID=Europe/Paris:20220301T190000
DTEND;TZID=Europe/Paris:20220301T200000
DTSTAMP:20260423T232521
CREATED:20220301T102909Z
LAST-MODIFIED:20220301T102909Z
UID:3747-1646161200-1646164800@founders.ma
SUMMARY:Grand Webinaire de Lancement Social Impulse + Academy
DESCRIPTION:Bienvenue sur le Webinaire de lancement de Lancement Social Impulse + Academy qui aura pour thématique et question centrale : L’apprentissage à distance comme impératif dans un contexte post-pandémique. Avec la participation de Jamila Hadri\, Abdelkhalek Zyne\, Raja Bensaoud\, Stephane Dangel\, Christian Gatard\, Karim Baina et Yasser Monkachi. Soyez au rendez-vous d’un débat structurant et inspirant !
URL:https://founders.ma/agenda/grand-webinaire-de-lancement-social-impulse-academy/
CATEGORIES:conférence
ATTACH;FMTTYPE=image/jpeg:https://founders.ma/wp-content/uploads/2022/03/unnamed.jpg
END:VEVENT
BEGIN:VEVENT
DTSTART;TZID=UTC:20220306T100000
DTEND;TZID=UTC:20220306T150000
DTSTAMP:20260423T232521
CREATED:20220207T082527Z
LAST-MODIFIED:20220207T082527Z
UID:1357-1646560800-1646578800@founders.ma
SUMMARY:Formation Pédagogie d'Enseignement universitaire- à distance
DESCRIPTION:Cette formation est destinée aux doctorants et les chercheurs qui envisagent le métier d’enseignement dans l’avenir\, cette formation sera l’occasion pour acquérir les notions de base et les techniques pour enseigner et développer leurs personnalités d’apprentissage.
URL:https://founders.ma/agenda/formation-pedagogie-denseignement-universitaire-a-distance/
CATEGORIES:formation
ATTACH;FMTTYPE=image/jpeg:https://founders.ma/wp-content/uploads/2022/02/271596997_4501129376683015_5374050199661826916_n.jpg
END:VEVENT
BEGIN:VEVENT
DTSTART;TZID=Europe/Paris:20220308T190000
DTEND;TZID=Europe/Paris:20220308T190000
DTSTAMP:20260423T232521
CREATED:20220307T203849Z
LAST-MODIFIED:20220307T203849Z
UID:3773-1646766000-1646766000@founders.ma
SUMMARY:Transformation digitale : Quel rôle du leadeership féminin dans cette dynamique ?
DESCRIPTION:Notre Rendez-vous de la transformation digitale #1havec revient en force le 08 mars à 19h au sujet du rôle du leadership féminin dans cette dynamique ! Avec l’intervention de Sarah Lamrani et Nezha Larhrissi ainsi que l’aimable modération de Aziza Laâyouni. \nSoyez au rendez-vous d’un débat riche qui aura comme thématique : Transformation digitale : Quel rôle du leadership féminin dans cette dynamique ?
URL:https://founders.ma/agenda/transformation-digitale-quel-role-du-leadeership-feminin-dans-cette-dynamique/
CATEGORIES:Webinar
ATTACH;FMTTYPE=image/jpeg:https://founders.ma/wp-content/uploads/2022/03/femme.jpg
END:VEVENT
BEGIN:VEVENT
DTSTART;TZID=Europe/Paris:20220314T100000
DTEND;TZID=Europe/Paris:20220314T170000
DTSTAMP:20260423T232521
CREATED:20220314T084720Z
LAST-MODIFIED:20220314T084823Z
UID:3881-1647252000-1647277200@founders.ma
SUMMARY:Caravane de L’entrepreneuriat 2022 - Région Marrakech- Safi
DESCRIPTION:Caravane De L’entrepreneuriat En Quête De Jeunes Entrepreneurs De La Région Marrakech- Safi \nLancement de la caravane de l’entrepreneuriat 2022 en quête des jeunes entrepreneurs de la région Marrakech Safi\, et ce lundi 14 mars 2022 à 10h00. La caravane sera lancée par Monsieur le Wali à partir du siège de la wilaya et à destination de 24 communes rurales relevant de 8 provinces et préfecture de la région. \nOuahat Sidi Brahim ; Alouidane ; Loudaya ; Souk Tnin Ourika ; Souk Tlet Ait ourir ; Souk larabaa Tighdouine ; Sidi Bouathmane ; Ras Ain Rhamna ; Skhour Rehamna ; Tamellat ; Tassaout ; Attaouia ; Imintanoute ; Sid L’Mokhtar ; Majjat ; Aquermoud ; Ounagha ; Korimate ; Jemaat Shaim ; Sebt Gzoula ; Had hrara ; El Gantour ; Sidi Chiker ; Jdour.
URL:https://founders.ma/agenda/caravane-de-lentrepreneuriat-2022-region-marrakech-safi/
LOCATION:Wilaya de Marrakech\, Marrakech\, Morocco
CATEGORIES:caravane,formation
ATTACH;FMTTYPE=image/png:https://founders.ma/wp-content/uploads/2022/03/ad0ddf4c4972b476a442453f44654847.png
END:VEVENT
BEGIN:VEVENT
DTSTART;VALUE=DATE:20220316
DTEND;VALUE=DATE:20220319
DTSTAMP:20260423T232521
CREATED:20220314T081813Z
LAST-MODIFIED:20220314T082451Z
UID:3874-1647388800-1647647999@founders.ma
SUMMARY:Campagne de don du sang à Sidi Ghanem
DESCRIPTION:L’ASSOCIATION DES ENTREPRISES DE SIDI GHANEM –AESG– \nVOUS DONNE RENDEZ-VOUS LES 16\, 17 ET LE 18 mars 2022 DE 10H00 A 18H00 (Pause entre 14h30 et 15h30) Au siège de la société EMOB Electric Mobility\, SIDI GHANEM. \nMerci d’appeler Mr.Mohssine pour toutes informations complémentaires Tél : +212 (6) 62 42 47 28 \nجمعية شركات سيدي غانم -AESG – موعدنا أيام 16 و17 و18 مارس 2022 من الساعة 10 صباحًا حتى الساعة 6 مساءً (استراحة بين 14:30 و 30:15 مساءً) في مقر الشركة EMOB Electric Mobility ، سيدي غانم.
URL:https://founders.ma/agenda/campagne-de-don-du-sang-a-sidi-ghanem/
LOCATION:emob\, Lot 153\, Quartier Indutriel Sidi Ghanem Ancien dépôt Alsa\, Marrakech\, 40000\, Morocco
CATEGORIES:Don
ATTACH;FMTTYPE=image/jpeg:https://founders.ma/wp-content/uploads/2022/03/WhatsApp-Image-2022-03-11-at-16.00.56.jpeg
END:VEVENT
BEGIN:VEVENT
DTSTART;TZID=Europe/Paris:20220316T100000
DTEND;TZID=Europe/Paris:20220316T110000
DTSTAMP:20260423T232521
CREATED:20220314T081432Z
LAST-MODIFIED:20220314T081432Z
UID:3870-1647424800-1647428400@founders.ma
SUMMARY:Cérémonie d'ouverture : POWER SIDI GHANEM
DESCRIPTION:Nous avons l’honneur de vous annoncer le lancement de la première exposition des solutions d’efficacité énergétique du quartier industriel Sidi Ghenem\, \n“POWER SIDI GHANEM” le 16\, 17 et 18 Mars chez EMOB. \nL’occasion de découvrir toutes les solutions proposées par nos membres et également rencontrer les responsables d’institutions de financements et d’accompagnement de vos projets d’efficacité énergétique. \nEnregistrez-vous pour assister à la cérémonie d’ouverture le 16 Mars à 10:00 AM en compagnie des membres de l’Association des Entreprises de Sidi Ghanem et nos invités de marque.
URL:https://founders.ma/agenda/ceremonie-douverture-power-sidi-ghanem/
LOCATION:emob\, Lot 153\, Quartier Indutriel Sidi Ghanem Ancien dépôt Alsa\, Marrakech\, 40000\, Morocco
CATEGORIES:Céremonie
ATTACH;FMTTYPE=image/jpeg:https://founders.ma/wp-content/uploads/2022/03/https___cdn.evbuc_.com_images_243957199_294280017639_1_original.jpeg
END:VEVENT
BEGIN:VEVENT
DTSTART;TZID=Europe/Paris:20220316T140000
DTEND;TZID=Europe/Paris:20220316T150000
DTSTAMP:20260423T232521
CREATED:20220314T141932Z
LAST-MODIFIED:20220314T141932Z
UID:3888-1647439200-1647442800@founders.ma
SUMMARY:Comment devenir le leader de votre secteur grâce aux réseaux sociaux ?
DESCRIPTION:Il s’en dit des choses sur les réseaux sociaux ! À propos de votre marque\, des transformations de votre industrie\, de l’état de santé de vos concurrents\, des évolutions attendues par la société… Une véritable mine d’or qui pourtant reste encore aujourd’hui\, trop sous-exploitée par les professionnels du marketing et de la communication. 🔎 \nLors de ce webinar\, nous vous expliquerons comment tirer pleinement parti des conversations qui ont lieu sur les réseaux sociaux pour y puiser des insights puissants permettant d’anticiper les bouleversements de votre marché et de façonner une stratégie marketing à la hauteur de vos enjeux pour 2022 ! 🚀
URL:https://founders.ma/agenda/comment-devenir-le-leader-de-votre-secteur-grace-aux-reseaux-sociaux/
CATEGORIES:Webinar
ATTACH;FMTTYPE=image/jpeg:https://founders.ma/wp-content/uploads/2022/03/pexels-pixabay-267350.jpg
END:VEVENT
BEGIN:VEVENT
DTSTART;VALUE=DATE:20220317
DTEND;VALUE=DATE:20220320
DTSTAMP:20260423T232521
CREATED:20220306T211410Z
LAST-MODIFIED:20220306T211410Z
UID:3769-1647475200-1647734399@founders.ma
SUMMARY:HACKATON 4 CREATE
DESCRIPTION:Le Centre international de Recherche et de Renforcement des Capacités (Cl2RC)\, en partenariat avec la Fondation Friedrich Naumann et l’École Supérieure de Technologie Essaouira organisent du 17 au 19 mars 2022 le HACKATON 4 CREATE et ce dans trois thèmes ” La mobilité douce; Le tourisme durable; La smart agriculture” en vue de choisir des idées\, des Start up et des projets innovants.\n Le Hackathon s’adresse à toutes et à tous les jeunes\, des étudiants\, société civile\, développeurs\, designer\, startups\, ONG\, professionnels et à toute personne\, volontaire\, talentueuse\, susceptible de proposer des idées innovantes et développer des solutions technologiques\, qui répondent aux thèmes choisis et aux challenges proposés. \n   ! \nInscrivez vous vite\, les places sont limitées\ndu 06 mars au 15 mars 2022 \, sur le lien\nhttps://docs.google.com/…/1jxZGYgxPkQP0Z…/edit
URL:https://founders.ma/agenda/hackaton-4-create/
CATEGORIES:Hackathon
ATTACH;FMTTYPE=image/jpeg:https://founders.ma/wp-content/uploads/2022/03/274926291_1114070326092747_8624447204743366458_n.jpg
END:VEVENT
BEGIN:VEVENT
DTSTART;TZID=Europe/Paris:20220318T180000
DTEND;TZID=Europe/Paris:20220318T210000
DTSTAMP:20260423T232521
CREATED:20220314T083309Z
LAST-MODIFIED:20220314T083309Z
UID:3877-1647626400-1647637200@founders.ma
SUMMARY:Creative economy days :  Art & Entrepreneurships
DESCRIPTION:Youthiful Prod\npresents\nthe Youthiful Academy \nOnce Upon a Time\, Creative Economy Days were born \nIn collaboration with Emerging Business Factory \nMarrying art and entrepreneurship\nto make Youthiful Business \nMasterclasses\nArtistic Events\nAnd a sea of possibilities \nThat should help artists monetize their talents\nAnd Entrepreneurs\, to add a touch of creativity to their projects \nSee you on Friday\, March 18th
URL:https://founders.ma/agenda/creative-economy-days-art-entrepreneurships/
LOCATION:Emerging Business Factory\, N61 QI SIDI GHANEM\, Marrakech\, Marrakech-Safi\, 40000\, Morocco
CATEGORIES:conférence,formation
ATTACH;FMTTYPE=image/jpeg:https://founders.ma/wp-content/uploads/2022/03/1794C973-0EB4-4104-BB80-D9E07F1A3617.jpeg
END:VEVENT
BEGIN:VEVENT
DTSTART;TZID=Europe/Paris:20220319T103000
DTEND;TZID=Europe/Paris:20220319T123000
DTSTAMP:20260423T232521
CREATED:20220301T083101Z
LAST-MODIFIED:20220301T083147Z
UID:3739-1647685800-1647693000@founders.ma
SUMMARY:Marrakech Startup School
DESCRIPTION:A propos de cet événement : \nVous êtes invités à nous rejoindre pour en savoir plus sur notre programme STARTUPS pour les étudiants lors de cette session d’information GRATUITE en personne au WLC Marrakech (Guéliz). \nFormations\nAteliers\nMise en réseau\nÉvénements\net bien d’autres activités intéressantes…\nSi vous êtes un étudiant ou un jeune diplômé passionné par l’innovation et l’esprit d’entreprise et que vous souhaitez vous retrouver avec des personnes partageant les mêmes idées et changer le monde\, voici votre chance de faire bouger les choses !
URL:https://founders.ma/agenda/marrakech-startup-school/
LOCATION:WLC Marrakech\, Av. Khalid Ibn El Oualid\, Marrakech\, 40000\, Morocco
CATEGORIES:formation
ATTACH;FMTTYPE=image/jpeg:https://founders.ma/wp-content/uploads/2022/03/https___cdn.evbuc_.com_images_237249789_313169749600_1_original.jpeg
END:VEVENT
BEGIN:VEVENT
DTSTART;VALUE=DATE:20220325
DTEND;VALUE=DATE:20220328
DTSTAMP:20260423T232521
CREATED:20220315T102231Z
LAST-MODIFIED:20220315T102231Z
UID:3897-1648166400-1648425599@founders.ma
SUMMARY:Benguérir : 2e édition du Fintec-Hack Challenge\, du 24 au 26 mars à l’UM6P
DESCRIPTION:La 2e édition du FinTec-Hack Challenge\, un hackathon visant à développer les solutions innovantes qui répondent aux défis liés à la fintech\, aura lieu du 24 au 26 mars à Benguérir\, à l’initiative du Laboratoire d’innovation P-Curiosity Lab relevant de l’Université Mohammed VI Polytechnique (UM6P). \nOrganisé en collaboration avec la Société Générale Marocaine de Banques (SGMB) et HACKLAB Afrique\, ce Hackathon réunira des étudiants universitaires\, des game-changers\, des développeurs et des concepteurs FinTech pour développer des produits financiers et découvrir de nouvelles technologies. \nLes participants à cette édition seront amenés à travailler en équipes pour développer des solutions innovantes autour de plusieurs thématiques\, comme les innovations en matière de banque numérique\, de marché des capitaux\, de solutions ou encore de méthodes de paiement et des transferts des MRE. Ils passeront 48 heures à développer des prototypes\, à valider leurs idées\, à nouer des contacts\, puis à faire une démonstration de leurs hacks devant un jury de très haut calibre\, de cadres et d’entrepreneurs. \nLes start-ups gagnantes vont bénéficier d’un financement de 10 000 euros (100 000 dirhams) servant à fournir le financement pour la phase d’expérimentation et de prototypage\, d’un co-working space pour une durée de 6 mois ainsi que d’un programme d’incubation intense de 6 mois avec la SGMB avec des offres de stage à Hacklab Africa. \nIl s’agit aussi de les faire bénéficier d’un accès à un soutien méthodologique\, des rencontres individuelles\, des formations\, un développement commercial\, de networking et d’un accès aux partenaires de l’UM6P. À ce titre\, un appel à candidatures est ouvert jusqu’au 21 mars 2022\, afin d’identifier les idées les plus prometteuses en termes de technologies financières.
URL:https://founders.ma/agenda/benguerir-2e-edition-du-fintec-hack-challenge-du-24-au-26-mars-a-lum6p/
CATEGORIES:Hackathon
ATTACH;FMTTYPE=image/png:https://founders.ma/wp-content/uploads/2022/03/Capture-décran-2022-03-15-à-11.17.38.png
END:VEVENT
BEGIN:VEVENT
DTSTART;VALUE=DATE:20220328
DTEND;VALUE=DATE:20220331
DTSTAMP:20260423T232521
CREATED:20220328T095304Z
LAST-MODIFIED:20220328T095304Z
UID:4043-1648425600-1648684799@founders.ma
SUMMARY:5th Conference on Cloud and Internet of Things
DESCRIPTION:Welcome from the Chairs of CIoT 2022\nIt is with great pleasure to welcome you to The 5th edition of Conference on Cloud and Internet of Things 2022 (CIoT’22) will be held from March 28 to 30\, 2022 in Marrakech\, Morocco as a hybrid conference. \nCIoT provides a high-quality international academic and industrial exchange forum for experts and scholars in the field of intelligent systems\, cloud computing and Internet of Things. \nThe conference will be designed and prepared as a in person event. However\, in the case of perduring traveling restrictions (official or de facto) during the conference dates due to the COVID-19 pandemic\, we will be ready to convert the conference to a fully on-line event.\nWe hope the conditions will allow for in-person participation\, so we can enjoy face-to-face discussions and coffee breaks again. It would also give the opportunity to participants to visit the beautiful city of Marrakech. \nCIoT’22 is a conference focusing on the challenges of managing Internet of Things applications while considering the whole end-to-end architecture over the sixth generation of mobile networks (6G) and next-generation data center networking from to cloud to the edge and IoT devices. The next generation of telecommunication networks is expected to support a growing number of smart terminals\, such as cell phones\, sensors and other connected objects\, to provide real-time applications and to provide intelligence and trust embedded in network infrastructure. To meet these requirements\, the 6G envisions the use of artificial intelligence\, cloud and edge computing. The 6G network will absorb the billions of flows generated by things while considering the requested QoS and the cohabitation of M2M\, M2H and H2M flows. Then\, the flows will be processed in data centers and applications will exploit the extracted knowledge. \nThe main objective of CIoT’22 is to address challenges of clouds and IoT systems from the sensors/machines to the end-users attached to the Cloud while considering the 6G network connecting both IoT and Cloud domains. \nWe are honored to organize CIoT 2022 in Marrakech\, Morocco and we are looking forward to your contributions to the continued success of the conference! \nGeneral Chairs:\nMohamed Lahby (Hassan II Univ. of Casablanca\, Morocco)\nNidal Nasser (Alfaisal University\, Saudi Arabia) \n  \nTPC Chairs: \nLei Shu (Nanjing Agricultural University\, China)\nThierry Coupaye (Orange Labs\, France)\nRachid Saadane (Hassania School of Public Works\, Morocco)\nSérgio D. Correia (Polytechnic Institute of Portalegre\, Portugal)
URL:https://founders.ma/agenda/5th-conference-on-cloud-and-internet-of-things/
LOCATION:Marrakech\, Marrakech\, 40000\, Morocco
CATEGORIES:conférence
ATTACH;FMTTYPE=image/png:https://founders.ma/wp-content/uploads/2022/03/ieee-comsoc-logo.png
END:VEVENT
BEGIN:VEVENT
DTSTART;TZID=Europe/Paris:20220330T093000
DTEND;TZID=Europe/Paris:20220330T163000
DTSTAMP:20260423T232521
CREATED:20220323T084217Z
LAST-MODIFIED:20220323T084217Z
UID:4025-1648632600-1648657800@founders.ma
SUMMARY:Le 2ème Workshop du FABLAB de l’UPM : « La Transformation Digitale et l’Industrie 4.0 au Service du Nouveau Modèle de Développement »
DESCRIPTION:L’Université Privée de Marrakech (UPM) et l’Université Sultan Moulay Slimane (USMS) organisent\, le Mercredi 30 Mars 2022\, le 2ème Workshop du FABLAB de l’UPM\, sous la thématique : « La Transformation Digitale et l’Industrie 4.0 au Service du Nouveau Modèle de Développement » \nLe Maroc a réalisé des progrès significatifs dans le domaine de la transformation digitale. En effet\, dans son rapport remis le 25 mai 2021 à SM le Roi Mohammed VI\, la Commission Spéciale sur le Modèle de Développement (CSMD) a défini les axes de transformation pour atteindre les objectifs du Nouveau Modèle de Développement (NMD). \nCette commission a recommandé\, dans son rapport\, de placer le numérique au plus haut niveau des priorités\, comme un véritable levier du développement économique du royaume. \nPar ailleurs\, la ministre de la Transition Numérique et de la Réforme de l’Administration\, Mme Ghita Mezzour\, a révélé\, le vendredi 14 janvier 2022\, la nouvelle marque en charge de promouvoir le développement du digital au Maroc: «MoroccoTech». \nLe digital constitue\, donc\, la colonne vertébrale du nouveau modèle de développement économique au Maroc\, c’est une conscience gouvernementale et collective. \nD’où la nécessité de la création et la construction des FabLabs R&I qui peuvent contribuer à l’amélioration de la vie des citoyens et l’attractivité du Royaume à travers le développement de la transformation digitale\, de l’économie numérique et du secteur IT à horizon 2030. Ces FabLabs jouent un rôle primordial dans la démocratisation numérique des savoir-faire. \nCe Workshop réunira des experts\, formateurs et enseignants chercheurs afin de discuter succès et défis de la transformation numérique et de l’industrie 4.0 dans les secteurs suivants : digitalisation de l’agriculture\, télémédecine\, santé digitale\, numérisation de l’enseignement\, finance numérique\, offres touristiques\, intelligence artificielle\, la réalité augmentée\, …etc. \nCe Workshop sera également l’occasion pour la signature de la convention cadre entre le Mega FabLab de l’Université Sultan Moulay Slimane et le FabLab de l’Université Privée de Marrakech. \nCet événement est organisé en partenariat avec la Faculté des Sciences et Techniques (FST)\, la Faculté Polydisciplinaire de de Béni Mellal relevant de l’Université Sultan Moulay Slimane (USMS)\, Emerging Business Factory (EBF) et OMPIC sous la coordination du Pr Hicham CHATOUI.
URL:https://founders.ma/agenda/le-2eme-workshop-du-fablab-de-lupm-la-transformation-digitale-et-lindustrie-4-0-au-service-du-nouveau-modele-de-developpement/
CATEGORIES:Workshop
ATTACH;FMTTYPE=image/jpeg:https://founders.ma/wp-content/uploads/2022/03/upm_marrakech_tt.jpg
END:VEVENT
END:VCALENDAR