BEGIN:VCALENDAR
VERSION:2.0
PRODID:-//Founders.ma - ECPv6.15.20//NONSGML v1.0//EN
CALSCALE:GREGORIAN
METHOD:PUBLISH
X-ORIGINAL-URL:https://founders.ma
X-WR-CALDESC:Évènements pour Founders.ma
REFRESH-INTERVAL;VALUE=DURATION:PT1H
X-Robots-Tag:noindex
X-PUBLISHED-TTL:PT1H
BEGIN:VTIMEZONE
TZID:Europe/Paris
BEGIN:DAYLIGHT
TZOFFSETFROM:+0100
TZOFFSETTO:+0200
TZNAME:CEST
DTSTART:20220327T010000
END:DAYLIGHT
BEGIN:STANDARD
TZOFFSETFROM:+0200
TZOFFSETTO:+0100
TZNAME:CET
DTSTART:20221030T010000
END:STANDARD
BEGIN:DAYLIGHT
TZOFFSETFROM:+0100
TZOFFSETTO:+0200
TZNAME:CEST
DTSTART:20230326T010000
END:DAYLIGHT
BEGIN:STANDARD
TZOFFSETFROM:+0200
TZOFFSETTO:+0100
TZNAME:CET
DTSTART:20231029T010000
END:STANDARD
BEGIN:DAYLIGHT
TZOFFSETFROM:+0100
TZOFFSETTO:+0200
TZNAME:CEST
DTSTART:20240331T010000
END:DAYLIGHT
BEGIN:STANDARD
TZOFFSETFROM:+0200
TZOFFSETTO:+0100
TZNAME:CET
DTSTART:20241027T010000
END:STANDARD
END:VTIMEZONE
BEGIN:VEVENT
DTSTART;TZID=Europe/Paris:20230117T150000
DTEND;TZID=Europe/Paris:20230117T180000
DTSTAMP:20260423T073750
CREATED:20230116T162245Z
LAST-MODIFIED:20230116T162245Z
UID:5284-1673967600-1673978400@founders.ma
SUMMARY:Compétences managériales et entrepreunariales Part 1
DESCRIPTION:Un premier module sur les bonnes pratiques et outils à maîtriser en tant que future entrepreneur et manager.
URL:https://founders.ma/agenda/competences-manageriales-et-entrepreunariales-part-1/
LOCATION:Emerging Business Factory\, N61 QI SIDI GHANEM\, Marrakech\, Marrakech-Safi\, 40000\, Morocco
CATEGORIES:formation
ATTACH;FMTTYPE=image/jpeg:https://founders.ma/wp-content/uploads/2023/01/https___cdn.evbuc_.com_images_425409569_294280017639_1_original.jpg
ORGANIZER;CN="EBF - Emerging Business Factory":MAILTO:now@emergingbusinessfactory.com
END:VEVENT
BEGIN:VEVENT
DTSTART;TZID=Europe/Paris:20230118T150000
DTEND;TZID=Europe/Paris:20230118T180000
DTSTAMP:20260423T073750
CREATED:20230116T162800Z
LAST-MODIFIED:20230116T162800Z
UID:5288-1674054000-1674064800@founders.ma
SUMMARY:Compétences managériales et entrepreunariales Part 2
DESCRIPTION:La seconde partie des bonnes pratiques et outils à maîtriser pour développer votre projet au mieux en tant que futur entrepreneur et manager
URL:https://founders.ma/agenda/competences-manageriales-et-entrepreunariales-part-2/
LOCATION:Emerging Business Factory\, N61 QI SIDI GHANEM\, Marrakech\, Marrakech-Safi\, 40000\, Morocco
CATEGORIES:formation
ATTACH;FMTTYPE=image/jpeg:https://founders.ma/wp-content/uploads/2023/01/https___cdn.evbuc_.com_images_425565219_294280017639_1_original.jpg
ORGANIZER;CN="EBF - Emerging Business Factory":MAILTO:now@emergingbusinessfactory.com
END:VEVENT
BEGIN:VEVENT
DTSTART;TZID=Europe/Paris:20230126T190000
DTEND;TZID=Europe/Paris:20230126T210000
DTSTAMP:20260423T073750
CREATED:20230124T102000Z
LAST-MODIFIED:20230125T095622Z
UID:5337-1674759600-1674766800@founders.ma
SUMMARY:Emerging People #21
DESCRIPTION:L’entreprenariat de demain ne requiert pas uniquement une rentabilité coté business\, l’entreprenariat de demain doit équilibrer la durabilité sociale\, économique et environnementale. Un développement qui s’inscrit dans l’initiative mondiale des 17 objectifs de développement durable\, the 17 shades of beautiful business. \nNous avons donc le plaisir de vous inviter à cette nouvelle édition Emerging People\, qui se déroulera au Sofitel Marrakech à 19h\, avec un programme d’exception pour cette nouvelle rencontre\, avec une introduction à cette nouvelle année 2023\, les objectifs et challenges des entrepreneurs de la région. \nVous aurez également l’opportunité de découvrir 3 nouvelles startups qui pourraient vous apportez la solution que vous recherchiez !
URL:https://founders.ma/agenda/emerging-people-21/
CATEGORIES:afterwork
ATTACH;FMTTYPE=image/png:https://founders.ma/wp-content/uploads/2023/01/EP-21-eventbrite-1.png
ORGANIZER;CN="EBF - Emerging Business Factory":MAILTO:now@emergingbusinessfactory.com
END:VEVENT
BEGIN:VEVENT
DTSTART;TZID=Europe/Paris:20230127T180000
DTEND;TZID=Europe/Paris:20230127T180000
DTSTAMP:20260423T073750
CREATED:20230125T084029Z
LAST-MODIFIED:20230125T084029Z
UID:5348-1674842400-1674842400@founders.ma
SUMMARY:L'ENTREPRENEURIAT DE DEMAIN LEVIER DE LA RELANCE ÉCONOMIQUE
DESCRIPTION:Dans le cadre du lancement de son incubateur\, L’association MarocK’Jeunes en partenariat avec L’Blassa Coworking Space\, organise une conférence sous le thème “L’Entrepreneuriat de demain : Levier de la relance économique de la région Marrakech-Safi”. \nCet événement aura lieu le Vendredi 27 Janvier 2023 à 18H à l’espace L’Blassa\, Guéliz à Marrakech. Nos intervenants vont discuter des défis\, des nouveaux enjeux et des perspectives de l’entrepreneuriat dans la région de Marrakech-Safi et comment il peut être un moyen efficace pour relancer l’économie. Nous mettrons également en avant notre programme d’incubateurs pour les jeunes entrepreneurs\, porté par l’association MarocK’Jeunes.
URL:https://founders.ma/agenda/lentrepreneuriat-de-demain-levier-de-la-relance-economique/
LOCATION:L’blassa
CATEGORIES:conférence
ATTACH;FMTTYPE=image/png:https://founders.ma/wp-content/uploads/2023/01/Capture-decran-2023-01-25-a-09.36.17.png
END:VEVENT
BEGIN:VEVENT
DTSTART;TZID=Europe/Paris:20230127T190000
DTEND;TZID=Europe/Paris:20230127T200000
DTSTAMP:20260423T073750
CREATED:20230124T114517Z
LAST-MODIFIED:20230124T114517Z
UID:5341-1674846000-1674849600@founders.ma
SUMMARY:Comment actionner vos bonnes résolutions ?
DESCRIPTION:Vous n’arrivez pas à prendre de la hauteur et de la distance pour clarifier vos objectifs ? Vous avez du mal à lever les barrières et passer à l’action? Vous avez acquis tellement de compétences et vous ne savez pas ce que vous pouvez et voulez en faire ?\nCet atelier est pour VOUS ! \nIM Consulting vous invite à son webinaire prévu ce vendredi 27 janvier à partir de 19h.
URL:https://founders.ma/agenda/comment-actionner-vos-bonnes-resolutions/
CATEGORIES:Webinar
ATTACH;FMTTYPE=image/jpeg:https://founders.ma/wp-content/uploads/2023/01/1674148317466.jpeg
END:VEVENT
BEGIN:VEVENT
DTSTART;TZID=Europe/Paris:20230131T100000
DTEND;TZID=Europe/Paris:20230131T180000
DTSTAMP:20260423T073750
CREATED:20230126T091446Z
LAST-MODIFIED:20230126T091446Z
UID:5390-1675159200-1675188000@founders.ma
SUMMARY:Formation : Gestion du temps et gestion du stress.
DESCRIPTION:Dans le cadre de l’accompagnement post création on a prévu des formations pour les bénéficiaires post. \nLa formation sera assurée par Mme Houda Guessous\, sous le titre gestion du temps et gestion du stress. \nLe 31/01/2023 de 10h à 18h.
URL:https://founders.ma/agenda/formation-gestion-du-temps-et-gestion-du-stress/
LOCATION:EBF\, Emerging Business Factory - EBF 61 quartier industriel Marrakech\, Marrakesh-Safi 40000\, Marrakech\, Morocco
CATEGORIES:formation
ATTACH;FMTTYPE=image/png:https://founders.ma/wp-content/uploads/2023/01/Capture-decran-2023-01-26-a-10.07.45.png
ORGANIZER;CN="EBF - Emerging Business Factory":MAILTO:now@emergingbusinessfactory.com
END:VEVENT
END:VCALENDAR