BEGIN:VCALENDAR
VERSION:2.0
PRODID:-//Founders.ma - ECPv6.15.20//NONSGML v1.0//EN
CALSCALE:GREGORIAN
METHOD:PUBLISH
X-WR-CALNAME:Founders.ma
X-ORIGINAL-URL:https://founders.ma
X-WR-CALDESC:Évènements pour Founders.ma
REFRESH-INTERVAL;VALUE=DURATION:PT1H
X-Robots-Tag:noindex
X-PUBLISHED-TTL:PT1H
BEGIN:VTIMEZONE
TZID:Europe/Paris
BEGIN:DAYLIGHT
TZOFFSETFROM:+0100
TZOFFSETTO:+0200
TZNAME:CEST
DTSTART:20220327T010000
END:DAYLIGHT
BEGIN:STANDARD
TZOFFSETFROM:+0200
TZOFFSETTO:+0100
TZNAME:CET
DTSTART:20221030T010000
END:STANDARD
BEGIN:DAYLIGHT
TZOFFSETFROM:+0100
TZOFFSETTO:+0200
TZNAME:CEST
DTSTART:20230326T010000
END:DAYLIGHT
BEGIN:STANDARD
TZOFFSETFROM:+0200
TZOFFSETTO:+0100
TZNAME:CET
DTSTART:20231029T010000
END:STANDARD
BEGIN:DAYLIGHT
TZOFFSETFROM:+0100
TZOFFSETTO:+0200
TZNAME:CEST
DTSTART:20240331T010000
END:DAYLIGHT
BEGIN:STANDARD
TZOFFSETFROM:+0200
TZOFFSETTO:+0100
TZNAME:CET
DTSTART:20241027T010000
END:STANDARD
END:VTIMEZONE
BEGIN:VEVENT
DTSTART;VALUE=DATE:20230531
DTEND;VALUE=DATE:20230603
DTSTAMP:20260423T124538
CREATED:20230124T100400Z
LAST-MODIFIED:20230124T100400Z
UID:5332-1685491200-1685750399@founders.ma
SUMMARY:Le Gitex Africa Morocco 2023 du 31 mai au 2 juin 2023 à Marrakech
DESCRIPTION:La première édition du Gitex Africa Morocco 2023 est programmée du 31 mai au 2 juin 2023 à Marrakech. Organisé par le ministère de la Transition numérique et de la réforme de l’administration\, l’Agence de développement du digital et le Dubaï World Trade Center\, cet événement mondial du digital et de l’innovation technologique devrait accueillir des institutionnels\, des investisseurs\, des startups et des leaders d’opinion notamment. Le but étant d’échanger autour des avancées en matière des nouvelles tendances technologiques et d’identifier les opportunités futures.
URL:https://founders.ma/agenda/le-gitex-africa-morocco-2023-du-31-mai-au-2-juin-2023-a-marrakech/
LOCATION:Marrakech\, Marrakech\, 40000\, Morocco
CATEGORIES:événement technologique
ATTACH;FMTTYPE=image/jpeg:https://founders.ma/wp-content/uploads/2023/01/download.jpg
END:VEVENT
END:VCALENDAR