BEGIN:VCALENDAR
VERSION:2.0
PRODID:-//Founders.ma - ECPv6.15.20//NONSGML v1.0//EN
CALSCALE:GREGORIAN
METHOD:PUBLISH
X-WR-CALNAME:Founders.ma
X-ORIGINAL-URL:https://founders.ma
X-WR-CALDESC:Évènements pour Founders.ma
REFRESH-INTERVAL;VALUE=DURATION:PT1H
X-Robots-Tag:noindex
X-PUBLISHED-TTL:PT1H
BEGIN:VTIMEZONE
TZID:Europe/Paris
BEGIN:DAYLIGHT
TZOFFSETFROM:+0100
TZOFFSETTO:+0200
TZNAME:CEST
DTSTART:20220327T010000
END:DAYLIGHT
BEGIN:STANDARD
TZOFFSETFROM:+0200
TZOFFSETTO:+0100
TZNAME:CET
DTSTART:20221030T010000
END:STANDARD
BEGIN:DAYLIGHT
TZOFFSETFROM:+0100
TZOFFSETTO:+0200
TZNAME:CEST
DTSTART:20230326T010000
END:DAYLIGHT
BEGIN:STANDARD
TZOFFSETFROM:+0200
TZOFFSETTO:+0100
TZNAME:CET
DTSTART:20231029T010000
END:STANDARD
BEGIN:DAYLIGHT
TZOFFSETFROM:+0100
TZOFFSETTO:+0200
TZNAME:CEST
DTSTART:20240331T010000
END:DAYLIGHT
BEGIN:STANDARD
TZOFFSETFROM:+0200
TZOFFSETTO:+0100
TZNAME:CET
DTSTART:20241027T010000
END:STANDARD
END:VTIMEZONE
BEGIN:VEVENT
DTSTART;VALUE=DATE:20231008
DTEND;VALUE=DATE:20231016
DTSTAMP:20260423T170048
CREATED:20231004T083411Z
LAST-MODIFIED:20231004T083530Z
UID:6145-1696723200-1697414399@founders.ma
SUMMARY:YOUTH Economic Integration Forum
DESCRIPTION:Le Forum d’Inclusion Economique et d’Entrepreneuriat de la région Marrakech-Safi est un évènement organisé par l’INDH et ses partenaires.qui a pour objectif de rassembler des acteurs clés du milieu de l’entrepreneuriat et de l’inclusion économique en vue de discuter des enjeux économiques liés au développement et à l’essor de ces deux domaines dans la région et offrir de la visibilité et du renforcement capacitaire aux entrepreneurs et porteur d’idée de celle-ci. Le Forum d’Inclusion Economique et d’Entrepreneuriat de Marrakech vise à offrir un espace pour discuter et partager les expériences et les meilleures pratiques en matière d’entrepreneuriat et d’inclusion économique\, dans le but de renforcer l’écosystème entrepreneurial régional et de contribuer à l’économie nationale.                                                                                                                    \n                                                          Programme:  \nDimanche 8 Octobre : \n\n10h00 Mot d’ouverture\n10h30 Workshop: “How to expo” – Ismail LAHSAINI\n12h00 “Entreprendre autrement: Exploitez les ressources infinies de votre cerveau pour être des entrepreneurs performants” – Abdelali ABD RABI\n13h30 Pause\n15h00 Workshop/Atelier : “Programmes régionaux d’accompagnement” – Youssef BOUZIANE\n16h30 Success story: “De 700dhs à 700 000 dhs” – Hiba GHIATI\n17h00 Keynote “Entrepreneuriat local et métiers de demain” – Khaldoun EL OUAZZANI\n\nLundi 9 Octobre : \n\n10h30 Workshop: “Economie social et solidaire levier du développement socio-économique.” Mouncef KETTANI\, Abdellah MEHREZ\n12h00 Success story (TBC)\n12h30 Success story: “Histoire d’une réussite personnelle ” – Achraf ELKOUNNI\n13h00 Pause\n15h00 Panel Jeunes: “Opportunités entrepreneuriales et inclusion des jeunes”\n16h30 Success story Takhmal – Imad EZZAKRAOUI\n17h00 Keynote “Formalisation des UPI et réduction de L’INFORMEL” – Mouncef KETTANI\n\nMardi 10 Octobre : \n\n10h30 Workshop: “Accès au financement conventionnels” – Yassin BEN HAROU\, Mohamed KARIMI\n11h30 Workshop: “Financement non conventionnels: Vers un modèle de financement solidaire” – Saad TANTAOUI\n12h00 Success story “Histoire d’une réussite professionnelle” – Taha ARFACH\n12h30 Success story (TBC)\n13h00 Pause\n15h00 Panel institutionnel .\n16h30 Success story (TBC)\n17h00 Keynote “Entrepreneuriat et nouveau modéle de développement” – Pr BARKAOUI\n\nMercredi 11 Octobre : \n\n10h30 Workshop: “Atteindre la performance globale de l’entreprise” – Tariq ZIDI\, Hicham MOUHA\n12h00 Success story – Mustapha TAOUALOUT\n12h30 Success story – Sarra KABBADJ\n13h00 Pause\n15h00 Workshop : “Atelier de développement des compétences entrepreneuriales” – Zakaria BRIGUI\n16h30 Success story FOTOMA – Abdesslam AICHAIDLANE\n17h00 Keynote “Transformation Digitale” – Mustapha TAOUALOUT\n\nJeudi 12 Octobre : \n\n10h30 Workshop: (TBC )\n12h00 Success story (TBC)\n12h30 Success story (TBC)\n13h00 Pause (120mins)\n15h00 Workshop : (TBC)\n16h30 Success story (TBC)\n17h00 Keynote (TBC)\n\nVendredi 13 Octobre : \n\n10h30 Workshop: “La Femme Leader et Entrepreneure dans un Monde en Changement” – Maha ECH CHEFAA\, Hajar EL OUAZZANI\n12h00 Success story (TBC)\n12h30 Success story (TBC)\n13h00 Pause (120mins)\n15h00 Workshop : “Du Prototype au Brevet : Processus et Stratégies” – Amine FARISS\, Saad ZBARI\n16h00 Workshop “Brevets d’invention” – OMPIC\n16h30 Success story (TBC)\n17h00 Keynote “La Construction Écologique et la Résilience aux Changements Climatiques” – Younes OUAZRI\, Youssef CHAKROUN\n\nSamedi 14 Octobre : \n\n10h30 Workshop: “Made in morocco / Made in Marrakech” – Adil LAMNINI\n12h00 Success story (TBC)\n12h30 Success story (TBC)\n13h00 Pause (120mins)\n15h00 Workshop : “Orientation des projets au service du développement territorial” – Ahmed GHAIBI\, Younouss HASSANI\n16h30 Success story (TBC)\n17h00 Keynote “Industries Culturelles et Créatives” – Taoufik ABOUDIA\n\nDimanche 15 Octobre : \n\nTBD\n\n———————————————- \n📅 Date: DU 8 OCTOBRE AU 15 OCTOBRE \n🏢 Lieu: COMPLEXE CULTUREL ET ADMINISTRATIF DES HABOUS; https://maps.app.goo.gl/Cp19785z277iBY8U8
URL:https://founders.ma/agenda/youth-economic-integration-forum/
LOCATION:Marrakech\, Marrakech\, 40000\, Morocco
CATEGORIES:Forum
ATTACH;FMTTYPE=image/jpeg:https://founders.ma/wp-content/uploads/2023/10/x60ygygwbbmaasnuzter.jpg
ORGANIZER;CN="EBF - Emerging Business Factory":MAILTO:now@emergingbusinessfactory.com
END:VEVENT
BEGIN:VEVENT
DTSTART;VALUE=DATE:20231009
DTEND;VALUE=DATE:20231016
DTSTAMP:20260423T170048
CREATED:20230901T095747Z
LAST-MODIFIED:20231004T083636Z
UID:6130-1696809600-1697414399@founders.ma
SUMMARY:Assemblées Annuelles du Fonds Monétaire International et de la Banque Mondiale
DESCRIPTION:Les Conseils des Gouverneurs du Fonds Monétaire International (FMI) et du Groupe de la Banque Mondiale (BM) se réunissent une fois par an pour discuter des travaux de leurs institutions respectives. Ces Assemblées Annuelles se tiennent habituellement en octobre à Washington et\, tous les trois ans\, dans un autre pays membre. \nLa réunion inaugurale des Conseils des Gouverneurs s’est tenue en mars 1946 à Savannah\, dans l’État de Géorgie (États-Unis)\, et les premières Assemblées Annuelles ont eu lieu la même année à Washington. \nÀ l’occasion des Assemblées Annuelles\, plusieurs instances se réunissent\, notamment le Comité du développement\, le Comité monétaire et financier international (CMFI)\, et le Groupe des Vingt-Quatre. À l’issue de leurs réunions\, le Comité du développement et le CMFI\, ainsi que plusieurs autres groupes\, publient des communiqués. Au programme des Assemblées Annuelles\, une séance plénière est prévue au cours de laquelle les Gouverneurs traitent différentes thématiques. Les Conseils des Gouverneurs prennent des décisions sur la façon de traiter les problématiques monétaires internationales du moment\, et approuvent les résolutions correspondantes. \nLes Assemblées Annuelles sont présidées par un Gouverneur du FMI et de la Banque Mondiale\, cette présidence étant exercée par les pays membres à tour de rôle d’une année à l’autre. \nRéunissant un nombre considérable de responsables des pays membres\, les Assemblées Annuelles offrent l’occasion de tenir des consultations plus ou moins élargies\, de nature formelle ou informelle. De nombreux séminaires ont en outre lieu en marge de ces Assemblées\, dont notamment des séances organisées par les services des deux institutions. Ces séminaires sont destinés à favoriser l’échange entre les représentants du secteur privé\, les délégués des pays membres et les hauts responsables du FMI et de la Banque Mondiale.
URL:https://founders.ma/agenda/assemblees-annuelles-du-fonds-monetaire-international-et-de-la-banque-mondiale/
LOCATION:Marrakech\, Marrakech\, 40000\, Morocco
CATEGORIES:congres
ATTACH;FMTTYPE=image/png:https://founders.ma/wp-content/uploads/2023/09/assembleevf.png
END:VEVENT
BEGIN:VEVENT
DTSTART;VALUE=DATE:20231017
DTEND;VALUE=DATE:20231020
DTSTAMP:20260423T170048
CREATED:20230207T095955Z
LAST-MODIFIED:20230207T095955Z
UID:5548-1697500800-1697759999@founders.ma
SUMMARY:Salon internationale de l’industrie agroalimentaire\, emballage et procédés de fabrication
DESCRIPTION:Le Salon internationale de l’industrie agroalimentaire\, emballage et procédés de fabrication se tiendra à Casablanca -Office des changes du 17 au 19 octobre 2023
URL:https://founders.ma/agenda/salon-internationale-de-lindustrie-agroalimentaire-emballage-et-procedes-de-fabrication/
LOCATION:CICEC – Centre International de Conférences et d’Expositions de l’Office des Changes\, Route d'el Jadida km 7\,5- N1\, Casablanca - MAROC\, casablanca\, Morocco
CATEGORIES:salon
ATTACH;FMTTYPE=image/png:https://founders.ma/wp-content/uploads/2023/02/SIEMA-1140x440-1.png
END:VEVENT
END:VCALENDAR