BEGIN:VCALENDAR
VERSION:2.0
PRODID:-//Founders.ma - ECPv6.15.20//NONSGML v1.0//EN
CALSCALE:GREGORIAN
METHOD:PUBLISH
X-WR-CALNAME:Founders.ma
X-ORIGINAL-URL:https://founders.ma
X-WR-CALDESC:Évènements pour Founders.ma
REFRESH-INTERVAL;VALUE=DURATION:PT1H
X-Robots-Tag:noindex
X-PUBLISHED-TTL:PT1H
BEGIN:VTIMEZONE
TZID:Europe/Paris
BEGIN:DAYLIGHT
TZOFFSETFROM:+0100
TZOFFSETTO:+0200
TZNAME:CEST
DTSTART:20220327T010000
END:DAYLIGHT
BEGIN:STANDARD
TZOFFSETFROM:+0200
TZOFFSETTO:+0100
TZNAME:CET
DTSTART:20221030T010000
END:STANDARD
BEGIN:DAYLIGHT
TZOFFSETFROM:+0100
TZOFFSETTO:+0200
TZNAME:CEST
DTSTART:20230326T010000
END:DAYLIGHT
BEGIN:STANDARD
TZOFFSETFROM:+0200
TZOFFSETTO:+0100
TZNAME:CET
DTSTART:20231029T010000
END:STANDARD
BEGIN:DAYLIGHT
TZOFFSETFROM:+0100
TZOFFSETTO:+0200
TZNAME:CEST
DTSTART:20240331T010000
END:DAYLIGHT
BEGIN:STANDARD
TZOFFSETFROM:+0200
TZOFFSETTO:+0100
TZNAME:CET
DTSTART:20241027T010000
END:STANDARD
END:VTIMEZONE
BEGIN:VEVENT
DTSTART;VALUE=DATE:20231108
DTEND;VALUE=DATE:20231111
DTSTAMP:20260423T184241
CREATED:20231101T134323Z
LAST-MODIFIED:20231101T134323Z
UID:6226-1699401600-1699660799@founders.ma
SUMMARY:Africa Investment Forum
DESCRIPTION:Du 8 au 10 novembre 2023\, Marrakech accueille la 6ème édition de l’Africa Investment Forum (AIF)\, plus importante plateforme de rencontre économique du continent.  \nSous le thème « Libérer les chaînes de valeur de l’Afrique »\, ce forum de trois jours réunira des chefs d’États et de gouvernements\, des décideurs privés et publics\, de grandes multinationales\, ainsi que des investisseurs impliqués dans le développement économique et social du continent. C’est le plus important rassemblement d’entreprises africain de l’année. \nPlateforme multipartite axée sur la conclusion d’accords à l’échelle du continent à travers un format innovant mêlant présentation de projets dans des «board rooms» dédiés et débats sectoriels de haut niveau\, Africa Investment Forum (AIF) 2023 accueillera 600 participants ainsi que 30 speakers. \nL’objectif premier de cet événement est de faciliter les relations entre les gouvernements et les investisseurs\, en les associant à des opportunités à un moment de transformation substantielle du continent. Ce forum a permis de mobiliser jusqu’à aujourd’hui plus de 150 milliards de dollars d’investissement. \nCréé en 2018\, la plateforme AIF est devenue la première conférence sur l’investissement en Afrique. Elle a été fondée par la Banque africaine de développement\, la Banque islamique de développement\, la Banque européenne de développement\, Afreximbank\, la Banque de commerce et de développement\, la Banque de développement de l’Afrique australe\, Africa Finance Cooperation aux côtés d’Africa 50.
URL:https://founders.ma/agenda/africa-investment-forum/
LOCATION:Marrakech\, Marrakech\, 40000\, Morocco
CATEGORIES:conférence,congres
ATTACH;FMTTYPE=image/jpeg:https://founders.ma/wp-content/uploads/2023/11/default_banner.jpg
END:VEVENT
BEGIN:VEVENT
DTSTART;VALUE=DATE:20231122
DTEND;VALUE=DATE:20231126
DTSTAMP:20260423T184241
CREATED:20230207T100933Z
LAST-MODIFIED:20230207T100933Z
UID:5564-1700611200-1700956799@founders.ma
SUMMARY:13ème édition du GLOBAL GREEN EVENT Du 22 Au 25 Novembre 2023
DESCRIPTION:Pour sa 13ème édition GLOBAL GREEN EVENT\, le Salon International des Équipements\, des Technologies et des Services de l’environnement\, de la transition Énergétique et de Développement Durable vous donne rendez-vous du 22 au 25 Novembre 2023 au Parc d’Exposition MOHAMMED VI (en face du Mazagan Beach Resort).\nGLOBAL GREEN EVENT vous offre la possibilité de découvrir les dernières innovations et de rencontrer un large réseau de professionnels nationaux et internationaux dans le secteur environnemental.
URL:https://founders.ma/agenda/13eme-edition-du-global-green-event-du-22-au-25-novembre-2023/
LOCATION:Parc d’Exposition MOHAMMED VI\, en face du Mazagan Beach Resort\, el jadida\, Morocco
CATEGORIES:conférence
ATTACH;FMTTYPE=image/png:https://founders.ma/wp-content/uploads/2023/02/Capture-decran-2023-02-07-a-11.08.01.png
END:VEVENT
END:VCALENDAR