BEGIN:VCALENDAR
VERSION:2.0
PRODID:-//Founders.ma - ECPv6.15.20//NONSGML v1.0//EN
CALSCALE:GREGORIAN
METHOD:PUBLISH
X-WR-CALNAME:Founders.ma
X-ORIGINAL-URL:https://founders.ma
X-WR-CALDESC:Évènements pour Founders.ma
REFRESH-INTERVAL;VALUE=DURATION:PT1H
X-Robots-Tag:noindex
X-PUBLISHED-TTL:PT1H
BEGIN:VTIMEZONE
TZID:Europe/Paris
BEGIN:DAYLIGHT
TZOFFSETFROM:+0100
TZOFFSETTO:+0200
TZNAME:CEST
DTSTART:20230326T010000
END:DAYLIGHT
BEGIN:STANDARD
TZOFFSETFROM:+0200
TZOFFSETTO:+0100
TZNAME:CET
DTSTART:20231029T010000
END:STANDARD
BEGIN:DAYLIGHT
TZOFFSETFROM:+0100
TZOFFSETTO:+0200
TZNAME:CEST
DTSTART:20240331T010000
END:DAYLIGHT
BEGIN:STANDARD
TZOFFSETFROM:+0200
TZOFFSETTO:+0100
TZNAME:CET
DTSTART:20241027T010000
END:STANDARD
BEGIN:DAYLIGHT
TZOFFSETFROM:+0100
TZOFFSETTO:+0200
TZNAME:CEST
DTSTART:20250330T010000
END:DAYLIGHT
BEGIN:STANDARD
TZOFFSETFROM:+0200
TZOFFSETTO:+0100
TZNAME:CET
DTSTART:20251026T010000
END:STANDARD
END:VTIMEZONE
BEGIN:VEVENT
DTSTART;VALUE=DATE:20241116
DTEND;VALUE=DATE:20241118
DTSTAMP:20260424T114304
CREATED:20241104T100713Z
LAST-MODIFIED:20241104T100713Z
UID:9756-1731715200-1731887999@founders.ma
SUMMARY:Qatar Africa Business Forum
DESCRIPTION:La 3e édition du « Qatar Africa Business Forum » se déroulera les 16 et 17 novembre à Marrakech. Plus de 300 dirigeants du Qatar\, d’Afrique et du monde entier se rassembleront pendant deux jours dans la ville ocre pour explorer les opportunités liées à « l’IA et au développement ». \nDes réunions de haut niveau aborderont également le rôle central du secteur privé dans le développement du continent africain ainsi que celui du Qatar. \nLa 2e édition du « Qatar Africa Business Forum »\, qui a eu lieu à Kigali (Rwanda)\, a rassemblé plus de 260 délégués provenant de 27 pays. Avec plus de 100 réunions et plus de 500 interactions de réseautage\, ce forum a considérablement renforcé les liens économiques entre le Qatar et l’Afrique\, selon les organisateurs.
URL:https://founders.ma/agenda/qatar-africa-business-forum/
LOCATION:Marrakech\, Marrakech\, 40000\, Morocco
CATEGORIES:Forum
ATTACH;FMTTYPE=image/png:https://founders.ma/wp-content/uploads/2024/11/Capture-decran-2024-11-04-a-11.06.22.png
END:VEVENT
BEGIN:VEVENT
DTSTART;VALUE=DATE:20241123
DTEND;VALUE=DATE:20241125
DTSTAMP:20260424T114304
CREATED:20241114T151750Z
LAST-MODIFIED:20241114T151750Z
UID:9770-1732320000-1732492799@founders.ma
SUMMARY:The Moroccan Game Jam (MGJ) First Edition
DESCRIPTION:The Moroccan Game Developers Community by DAGA is Thrilled to Announce the First Edition of the Moroccan Game Jam (MGJ)! \n Register Now: https://lnkd.in/emtKQR6s \n Dates: Friday\, November 22 – Sunday\, November 24\, 2024\n Format: Hybrid (in-person & online) \nThe Moroccan Game Developers Community by DAGA community is proud to bring you the inaugural Moroccan Game Jam!\nA quick Shoot out to  MJCC وزارة الشباب والثقافة والتواصل  for supporting our event through their wonderful platform MGI (MoroccoGamingIndustry) and their wonderful people : mehdi bensaid\, Nissrine Souissi Mustapha Moufid\nAnd to all our partners for this first edition :\n1337 Coding School : Youssef Dahbi\, Larbi EL HILALI\nEmerging Business Factory : Taoufik Aboudia\nInstitut français du Maroc : Ayoub D. \, Meriem Jabi \, Mouad Meziaty \nWithout them this event wouldn’t have been possible at this scale\, thank you so much! \nThis nationwide event is set to unite gaming enthusiasts from all over Morocco\, inviting participants to team up and create games over three thrilling days. Whether you’re an experienced developer or just starting out\, this event is for anyone passionate about game creation.\n Event Breakdown \nDay 1 (Friday\, Online): Kickoff with theme announcement and brainstorming sessions.\nDay 2 (Saturday\, Hybrid): A full day dedicated to developing your game.\nDay 3 (Sunday\, Hybrid): Final development push\, submission\, and project showcase. \nHybrid Participation Options : Join us online or on-site (limited spots available at each location): \nCasablanca: French Institute of Casablanca – 20 spots\nRabat: French Institute of Rabat – 15 spots\nMarrakech: Emerging Business Factory (EBF) – 20 spots\nTetouan: 1337 Med – 20 spots \nHow to Participate: \nRegister to the event using this link : https://lnkd.in/emtKQR6s \nYou can participate either by working on : \nAn existing Project: Bring a project you are currently developing and continue working on it!\nA new project: Start from scratch\, creating a brand-new game inspired by the theme that will be announced on Friday 22 Online! \nJoin us to learn\, network\, and create with fellow developers\, artists\, and enthusiasts. Let’s push the boundaries of creativity and innovation in the Moroccan’s game development scene! \nLet’s push the boundaries of the Moroccan game development scene together! \nCredit : A Special thanks to Rachid Lansari for his work on this first edition MGJ Poster
URL:https://founders.ma/agenda/the-moroccan-game-jam-mgj-first-edition/
LOCATION:Emerging Business Factory\, N61 QI SIDI GHANEM\, Marrakech\, Marrakech-Safi\, 40000\, Morocco
CATEGORIES:conférence
ATTACH;FMTTYPE=image/jpeg:https://founders.ma/wp-content/uploads/2024/11/MGJ.jpg
ORGANIZER;CN="EBF - Emerging Business Factory":MAILTO:now@emergingbusinessfactory.com
END:VEVENT
BEGIN:VEVENT
DTSTART;TZID=Europe/Paris:20241126T150000
DTEND;TZID=Europe/Paris:20241126T170000
DTSTAMP:20260424T114304
CREATED:20241126T090211Z
LAST-MODIFIED:20241126T090211Z
UID:9829-1732633200-1732640400@founders.ma
SUMMARY:Jour 2 : Levée de fonds par les startups
DESCRIPTION:Pour les startups à la recherche de financement\, cette journée propose des ressources essentielles pour comprendre les enjeux de la levée de fonds. Des experts et investisseurs seront présents pour partager leur expertise. Des ateliers pratiques permettront d’apprendre à structurer une demande de financement\, rédiger un pitch efficace et explorer les différentes options de financement disponibles. Ce sera une occasion de rencontrer des investisseurs et de mieux préparer l’avenir de l’entreprise.
URL:https://founders.ma/agenda/jour-2-levee-de-fonds-par-les-startups/
LOCATION:Emerging Business Factory\, N61 QI SIDI GHANEM\, Marrakech\, Marrakech-Safi\, 40000\, Morocco
CATEGORIES:Workshop
ATTACH;FMTTYPE=image/jpeg:https://founders.ma/wp-content/uploads/2024/11/D3_ticket.jpg
ORGANIZER;CN="EBF - Emerging Business Factory":MAILTO:now@emergingbusinessfactory.com
END:VEVENT
BEGIN:VEVENT
DTSTART;TZID=Europe/Paris:20241127T150000
DTEND;TZID=Europe/Paris:20241127T170000
DTSTAMP:20260424T114304
CREATED:20241126T090724Z
LAST-MODIFIED:20241126T090724Z
UID:9837-1732719600-1732726800@founders.ma
SUMMARY:Jour 3 : Labellisation des artisants
DESCRIPTION:Cette journée est dédiée aux artisans et met l’accent sur l’importance de la labellisation pour améliorer la qualité des produits et ouvrir de nouveaux marchés. Des conseils pratiques seront donnés pour aider à se préparer à ces démarches et maximiser les chances d’obtenir des certifications reconnues. L’objectif est de permettre aux artisans de se démarquer\, d’augmenter la valeur de leurs produits et d’accéder à des opportunités commerciales élargies\, tant au niveau local qu’international.
URL:https://founders.ma/agenda/jour-3-labellisation-des-artisants/
LOCATION:Emerging Business Factory\, N61 QI SIDI GHANEM\, Marrakech\, Marrakech-Safi\, 40000\, Morocco
CATEGORIES:Workshop
ATTACH;FMTTYPE=image/jpeg:https://founders.ma/wp-content/uploads/2024/11/D3_ticket.jpg
ORGANIZER;CN="EBF - Emerging Business Factory":MAILTO:now@emergingbusinessfactory.com
END:VEVENT
BEGIN:VEVENT
DTSTART;TZID=Europe/Paris:20241128T150000
DTEND;TZID=Europe/Paris:20241128T170000
DTSTAMP:20260424T114304
CREATED:20241126T090824Z
LAST-MODIFIED:20241126T090824Z
UID:9839-1732806000-1732813200@founders.ma
SUMMARY:Jour 4 : Les sources de financement
DESCRIPTION:Cette journée est dédiée aux coopératives à la recherche de financement. Les participants auront l’occasion de découvrir diverses options de financement\, telles que des subventions publiques et privées\, ainsi que des prêts à conditions avantageuses. Ce sera aussi une occasion pour rencontrer des partenaires financiers\, poser des questions et obtenir les ressources nécessaires pour faire croître leur projet coopératif.
URL:https://founders.ma/agenda/jour-4-les-sources-de-financement/
LOCATION:Emerging Business Factory\, N61 QI SIDI GHANEM\, Marrakech\, Marrakech-Safi\, 40000\, Morocco
CATEGORIES:Workshop
ATTACH;FMTTYPE=image/jpeg:https://founders.ma/wp-content/uploads/2024/11/D4_ticket.jpg
ORGANIZER;CN="EBF - Emerging Business Factory":MAILTO:now@emergingbusinessfactory.com
END:VEVENT
BEGIN:VEVENT
DTSTART;TZID=Europe/Paris:20241129T150000
DTEND;TZID=Europe/Paris:20241129T170000
DTSTAMP:20260424T114304
CREATED:20241126T090925Z
LAST-MODIFIED:20241126T090925Z
UID:9841-1732892400-1732899600@founders.ma
SUMMARY:Jour 5 : La digitalisation et son impact sur le développement de l'entreprise
DESCRIPTION:Cette journée\, dédiée aux porteurs de projets digitaux\, met en avant le rôle clé du numérique dans le développement des entreprises. À travers un workshop interactif animé par des experts\, les participants découvriront comment transformer leurs idées en projets concrets et optimiser leur compétitivité grâce au digital. Cet événement introduit également notre future école de digital\, un espace dédié à former les talents de demain pour relever les défis de la transformation numérique.
URL:https://founders.ma/agenda/jour-5-la-digitalisation-et-son-impact-sur-le-developpement-de-lentreprise/
LOCATION:Emerging Business Factory\, N61 QI SIDI GHANEM\, Marrakech\, Marrakech-Safi\, 40000\, Morocco
CATEGORIES:Workshop
ATTACH;FMTTYPE=image/jpeg:https://founders.ma/wp-content/uploads/2024/11/D5_ticket.jpg
ORGANIZER;CN="EBF - Emerging Business Factory":MAILTO:now@emergingbusinessfactory.com
END:VEVENT
END:VCALENDAR